BEGIN:VCALENDAR
VERSION:2.0
PRODID:-//ChamberMaster//Event Calendar 2.0//EN
METHOD:PUBLISH
X-PUBLISHED-TTL:P3D
REFRESH-INTERVAL:P3D
CALSCALE:GREGORIAN
BEGIN:VEVENT
DTSTART:20160510T160000Z
DTEND:20160510T193000Z
X-MICROSOFT-CDO-ALLDAYEVENT:FALSE
SUMMARY:Customs Valuation Seminar
DESCRIPTION:Determining the correct value to declare to customs can be a complex undertaking since both CBSA and CBP value goods differently than the CRA and IRS. The regulations that determine transaction value are a convoluted maze and we will guide you through it in this seminar. Particularly important to importers and exporters will be matters of related transactions\, terms of sale\, commissions and pertinent value declarations. Misdeclaring values with customs should be avoided at all cost.\n\n\n\nTopics Include\n\n\n	\n		\n			\n			\n				Price paid or payable\n				Transaction value\n				Methods of appraisement / valuation\n				Deductions and additions\n				Related party transactions\n				First sale\n			\n			\n			\n			\n				What constitutes a sale?\n				Valuation pitfalls\n				Monetary penalties\n				Reasonable care\n				Reason to believe\n				Rulings\n			\n			\n		\n	\n\n\n\n\nWho Should Attend\n\nOwners\, Managers\, Supervisors\, Coordinators\, Logistics and Accounting staff of companies:\n\n\n	\n		\n			\n			\n				Responsible for customs compliance\n				Confused on which valuation method is correct\n			\n			\n			\n			\n				Exhibiting reasonable care\n				Under review by customs
X-ALT-DESC;FMTTYPE=text/html:<p style="text-align:justify">Determining the correct value to declare to customs can be a complex undertaking since both CBSA and CBP value goods differently than the CRA and IRS. The regulations that determine transaction value are a convoluted maze and we will guide you through it in this seminar. Particularly important to importers and exporters will be matters of related transactions\, terms of sale\, commissions and pertinent value declarations. Misdeclaring values with customs should be avoided at all cost.</p>\n\n<h3><br />\nTopics Include</h3>\n\n<table style="height:70px\; width:535px">\n	<tbody>\n		<tr>\n			<td>\n			<ul>\n				<li>Price paid or payable</li>\n				<li>Transaction value</li>\n				<li>Methods of appraisement / valuation</li>\n				<li>Deductions and additions</li>\n				<li>Related party transactions</li>\n				<li>First sale</li>\n			</ul>\n			</td>\n			<td>\n			<ul>\n				<li>What constitutes a sale?</li>\n				<li>Valuation pitfalls</li>\n				<li>Monetary penalties</li>\n				<li>Reasonable care</li>\n				<li>Reason to believe</li>\n				<li>Rulings</li>\n			</ul>\n			</td>\n		</tr>\n	</tbody>\n</table>\n\n<h3><br />\nWho Should Attend</h3>\n\n<p>Owners\, Managers\, Supervisors\, Coordinators\, Logistics and Accounting staff of companies:</p>\n\n<table style="height:10px\; width:535px">\n	<tbody>\n		<tr>\n			<td>\n			<ul>\n				<li>Responsible for customs compliance</li>\n				<li>Confused on which valuation method is correct</li>\n			</ul>\n			</td>\n			<td>\n			<ul>\n				<li>Exhibiting reasonable care</li>\n				<li>Under review by customs</li>\n			</ul>\n			</td>\n		</tr>\n	</tbody>\n</table>\n
LOCATION:Pacific Customs Brokers\, 17637 1st Avenue\, Surrey\, BC
UID:e.749.4791
SEQUENCE:3
DTSTAMP:20260424T070321Z
URL:https://business.businessinsurrey.com/events/details/customs-valuation-seminar-05-10-2016-4791
END:VEVENT

END:VCALENDAR
