BEGIN:VCALENDAR
VERSION:2.0
PRODID:-//ChamberMaster//Event Calendar 2.0//EN
METHOD:PUBLISH
X-PUBLISHED-TTL:P3D
REFRESH-INTERVAL:P3D
CALSCALE:GREGORIAN
BEGIN:VEVENT
DTSTART:20150507T151500Z
DTEND:20150507T230000Z
X-MICROSOFT-CDO-ALLDAYEVENT:FALSE
SUMMARY:Cross Border Trade Seminar
DESCRIPTION:Learn About * US Travel/Immigration Planning * US Commercial Real Estate * US Business Planning/Taxation* Canadian Government Programs and Services * US Sales and Marketing Strategies * US Business Formation and Legalities * US Banking and Financial Services * Canada/USA Distribution and Logistics * US Customs and NAFTA Guidelines * International Insurance Strategies From experts in business\, law and government regulations.
X-ALT-DESC;FMTTYPE=text/html:Learn About * US Travel/Immigration Planning * US Commercial Real Estate * US Business Planning/Taxation* Canadian Government Programs and Services * US Sales and Marketing Strategies * US Business Formation and Legalities * US Banking and Financial Services * Canada/USA Distribution and Logistics * US Customs and NAFTA Guidelines * International Insurance Strategies From experts in business\, law and government regulations.
LOCATION:Delta Town & Country Inn 6005 Highway 17A\, Delta\, BC
UID:e.749.3577
SEQUENCE:3
DTSTAMP:20260423T122034Z
URL:https://business.businessinsurrey.com/events/details/cross-border-trade-seminar-05-07-2015-3577
END:VEVENT

END:VCALENDAR
