BEGIN:VCALENDAR
VERSION:2.0
PRODID:-//ChamberMaster//Event Calendar 2.0//EN
METHOD:PUBLISH
X-PUBLISHED-TTL:P3D
REFRESH-INTERVAL:P3D
CALSCALE:GREGORIAN
BEGIN:VEVENT
DTSTART:20150307T213000Z
DTEND:20150307T233000Z
X-MICROSOFT-CDO-ALLDAYEVENT:FALSE
SUMMARY:Condo Connections: 3 Ways to Empower Yourself as a Strata Owner
DESCRIPTION:Is your strata stressing you out? Join us for a educational\, fun and value-packed event featuring SBoT member and local strata expert Jason D. Chapman to find out how to reduce your strata fees\, eliminate or reduce conflict in your building\, and get things done. The investment for the event is $97 but if you register NOW at condoconnections.ca you can attend for FREE.
X-ALT-DESC;FMTTYPE=text/html:Is your strata stressing you out? Join us for a educational\, fun and value-packed event featuring SBoT member and local strata expert Jason D. Chapman to find out how to reduce your strata fees\, eliminate or reduce conflict in your building\, and get things done. The investment for the event is $97 but if you register NOW at <a href="http://www.condoconnections.ca" target="_blank">condoconnections.ca</a> you can attend for FREE.
LOCATION:North Surrey
UID:e.749.2892
SEQUENCE:3
DTSTAMP:20260423T093724Z
URL:https://business.businessinsurrey.com/events/details/condo-connections-3-ways-to-empower-yourself-as-a-strata-owner-03-07-2015-2892
END:VEVENT

END:VCALENDAR
