BEGIN:VCALENDAR
VERSION:2.0
PRODID:-//ChamberMaster//Event Calendar 2.0//EN
METHOD:PUBLISH
X-PUBLISHED-TTL:P3D
REFRESH-INTERVAL:P3D
CALSCALE:GREGORIAN
BEGIN:VEVENT
DTSTART;VALUE=DATE:20120721
DTEND;VALUE=DATE:20120722
TRANSP:TRANSPARENT
X-MICROSOFT-CDO-ALLDAYEVENT:TRUE
SUMMARY:Complete Home Design Workshop
DESCRIPTION:Join us for a free innovative and informative design workshop.\n\n\n\nLearn the latest craze "do it yourself" techniques\, and overall how to revamp your space on a dime budget.\n\n\n\nBring a friend and make a date out of it!\n\nReserve a spot today for July.\n\n\n\nFor more information contact us at 604.497.2101. or visit our facebook and twitter page.
X-ALT-DESC;FMTTYPE=text/html:<span style="color:#0000cd\;"><strong>Join us for a free innovative and informative design workshop.<br />\n<br />\nLearn the latest craze &quot\;do it yourself&quot\; techniques\, and overall how to revamp your space on a dime budget.<br />\n<br />\nBring a friend and make a date out of it!<br />\nReserve a spot today for July.<br />\n<br />\nFor more information contact us at 604.497.2101. or visit our facebook and twitter page.</strong></span>
LOCATION:10422 168 Street Fraser Heights Business Centre
UID:e.749.2074
SEQUENCE:3
DTSTAMP:20260421T064508Z
URL:https://business.businessinsurrey.com/events/details/complete-home-design-workshop-07-21-2012-2074
END:VEVENT

END:VCALENDAR
