BEGIN:VCALENDAR
VERSION:2.0
PRODID:-//ChamberMaster//Event Calendar 2.0//EN
METHOD:PUBLISH
X-PUBLISHED-TTL:P3D
REFRESH-INTERVAL:P3D
CALSCALE:GREGORIAN
BEGIN:VEVENT
DTSTART:20101126T020000Z
DTEND:20101126T060000Z
X-MICROSOFT-CDO-ALLDAYEVENT:FALSE
SUMMARY:Communities Creating Safety
DESCRIPTION:Community Caf  discussion facilitated by men and women.\n\n	 \n\n	An event to honour the stories and experience of unheard voices of families. Join us for having meaningful conversations to build safer communities\n\n	 \n\n	MC. Penny Priddy\n\n	 \n\n	Keynote Speaker: Kamal S. Dhillon\, Author of "The black and blue sari"\n\n	 \n\n	Buffett dinner will be served.\n\n	 \n\n	Time: Nov 25\, 2010\; 6-10pm\n\n	Location: Bombay Banquet Hall (7475 135St Surrey)\n\n	Admission: $40.00\n\n	 \n\n	More info: straegicinterventions@bwss.org\; 604.687.1613\n\n	 \n\n	www.bwss.org\; www.theviolencestopshere.ca
X-ALT-DESC;FMTTYPE=text/html:<div>\n	Community Caf&eacute\; discussion facilitated by men and women.</div>\n<div>\n	&nbsp\;</div>\n<div>\n	An event to honour the stories and experience of unheard voices of families. Join us for having meaningful conversations to build safer communities</div>\n<div>\n	&nbsp\;</div>\n<div>\n	<strong>MC. Penny Priddy</strong></div>\n<div>\n	&nbsp\;</div>\n<div>\n	<strong>Keynote Speaker: Kamal S. Dhillon</strong>\, Author of &ldquo\;The black and blue sari&rdquo\;</div>\n<div>\n	&nbsp\;</div>\n<div>\n	Buffett dinner will be served.</div>\n<div>\n	&nbsp\;</div>\n<div>\n	<strong>Time</strong>: Nov 25\, 2010\; 6-10pm</div>\n<div>\n	<strong>Location</strong>: Bombay Banquet Hall (7475 135St Surrey)</div>\n<div>\n	<strong>Admission</strong>: $40.00</div>\n<div>\n	&nbsp\;</div>\n<div>\n	<strong>More info</strong>: <a href="mailto:straegicinterventions@bwss.org">straegicinterventions@bwss.org</a>\; 604.687.1613</div>\n<div>\n	&nbsp\;</div>\n<div>\n	<a href="http://www.bwss.org" target="_blank">www.bwss.org</a>\; <a href="http://www.theviolencestopshere.ca" target="_blank">www.theviolencestopshere.ca</a></div>\n
LOCATION:Bombay Banquet Hall (7475 135St Surrey)
UID:e.749.1711
SEQUENCE:3
DTSTAMP:20260422T120621Z
URL:https://business.businessinsurrey.com/events/details/communities-creating-safety-11-25-2010-1711
END:VEVENT

END:VCALENDAR
