BEGIN:VCALENDAR
VERSION:2.0
PRODID:-//ChamberMaster//Event Calendar 2.0//EN
METHOD:PUBLISH
X-PUBLISHED-TTL:P3D
REFRESH-INTERVAL:P3D
CALSCALE:GREGORIAN
BEGIN:VEVENT
DTSTART:20160925T010000Z
DTEND:20160925T040000Z
X-MICROSOFT-CDO-ALLDAYEVENT:FALSE
SUMMARY:CNIB Night Steps
DESCRIPTION:You're invited to brighten the night in support of CNIB. Join us for CNIB Night Steps\, a fun 5km fundraising walk under the stars. This exciting\, family friendly walk raises funds to support CNIB's vital vision rehabilitation services\, such as learning to travel independently using a white cane\, braille literacy skills\, and a variety of enriching programs and services delivered right in your home community. Your participation empowers Canadians who are blind or partially sighted to live and love life to the fullest.
X-ALT-DESC;FMTTYPE=text/html:You&rsquo\;re invited to brighten the night in support of CNIB. Join us for CNIB Night Steps\, a fun 5km fundraising walk under the stars. This exciting\, family friendly walk raises funds to support CNIB&rsquo\;s vital vision rehabilitation services\, such as learning to travel independently using a white cane\, braille literacy skills\, and a variety of enriching programs and services delivered right in your home community. Your participation empowers Canadians who are blind or partially sighted to live and love life to the fullest.
LOCATION:Holland Park\, 13428 Old Yale Rd\, Surrey\, BC
UID:e.749.4962
SEQUENCE:3
DTSTAMP:20260424T052648Z
URL:https://business.businessinsurrey.com/events/details/cnib-night-steps-09-24-2016-4962
END:VEVENT

END:VCALENDAR
