BEGIN:VCALENDAR
VERSION:2.0
PRODID:-//ChamberMaster//Event Calendar 2.0//EN
METHOD:PUBLISH
X-PUBLISHED-TTL:P3D
REFRESH-INTERVAL:P3D
CALSCALE:GREGORIAN
BEGIN:VEVENT
DTSTART:20120726T003000Z
DTEND:20120726T013000Z
X-MICROSOFT-CDO-ALLDAYEVENT:FALSE
SUMMARY:CMA Information Session
DESCRIPTION:Fast-track your career into Management and Executive level.\n\n	\n\n	On behalf of the Certified Management Accountants of British Columbia\, I would like to invite you to attend an information session\, taking place Wednesday\, July 25 at 5:30pm. \n\n	\n\n	Certified Management Accountants (CMAs) do more than just measure value ? they create it. As the leaders in management accounting\, CMAs actively apply a unique mix of financial expertise\, strategic insight\, innovative thinking and a collaborative approach to help grow successful businesses.\n\n	\n\n	Surrey: Wednesday\, July 25\n\n	5:30pm ? 6:30pm\n\n	Sheraton Vancouver Guildford Hotel\n\n	Green Timbers Room\n\n	15269 104 Avenue\, Surrey\n\n	\n\n	At the information session\, you will learn more about various pathways to obtain the CMA designation\, the diverse career opportunities available for CMAs\, and how the designation can help you advance in your career to a management position.\n\n	If you would like to attend\, please RSVP with your full name to Shobna Nand at 604.484.8553 or by email at shobna@cmabc.com.\n\n	We would also like to let you know that registration is now open for the September 2012 CMA Accelerated Program. This year\, we will be offering classes in Vancouver\, Burnaby\, Victoria and Kelowna\, as well as our Distance Education and Self-Study options. Dates\, schedules and additional information on the upcoming intake can be found on our website: CMA Accelerated Program\n\n	See you there!\nJunita Thakorlal\n\n Business Development Officer\n\nCertified Management Accountants of British Columbia\n\njunita@cmabc.com\n\n604.484.7005
X-ALT-DESC;FMTTYPE=text/html:<p>\n	<strong><span style="font-size: 10pt\; font-family: ">Fast-track your career into Management and Executive level.</span></strong><br>\n	<br>\n	<span new="" style="font-size:10.0pt\;font-family:" times="">On behalf of the Certified Management Accountants of British Columbia\, I would like to invite you to attend an <strong><span style="font-family:">information session\, </span></strong>taking place <span style="font-weight: bold\;">Wednesday</span><strong><span style="font-family:">\, July 25 at 5:30pm</span></strong>. </span><br>\n	<br>\n	<span mso-fareast-font-family:="" new="" style="font-size:10.0pt\;font-family:" times="">Certified Management Accountants (CMAs) do more than just measure value ? they create it. As the leaders in management accounting\, CMAs actively apply a unique mix of financial expertise\, strategic insight\, innovative thinking and a collaborative approach to help grow successful businesses.</span><br>\n	<br>\n	<strong><span mso-bidi-language:="" mso-fareast-theme-font:="" style="font-size:10.0pt\;font-family:\n">Surrey: Wednesday\, July 25</span></strong><br>\n	<span style="font-size:10.0pt\;font-family:">5:30pm ? 6:30pm<br>\n	Sheraton Vancouver Guildford Hotel<br>\n	Green Timbers Room<br>\n	15269 104 Avenue\, Surrey<br>\n	<br>\n	At the information session\, you will learn more about various pathways to obtain the CMA designation\, the diverse career opportunities available for CMAs\, and how the designation can help you advance in your career to a management position.</span></p>\n<p>\n	<span style="font-size:10.0pt\;font-family:">If you would like to attend\, please RSVP with your full name to Shobna Nand at 604.484.8553 or by email at </span><a href="mailto:shobna@cmabc.com"><span style="font-size:10.0pt\;font-family:">shobna@cmabc.com</span></a><span style="font-size:10.0pt\;font-family:">.</span></p>\n<p>\n	<span style="font-size:10.0pt\;font-family:">We would also like to let you know that registration is now open for the <strong><span style="font-family:">September 2012 CMA Accelerated Program</span></strong>. This year\, we will be offering classes in Vancouver\, Burnaby\, Victoria and Kelowna\, as well as our Distance Education and Self-Study options. Dates\, schedules and additional information on the upcoming intake can be found on our website: </span><a href="http://CMA-BC.informz.ca/z/cjUucD9taT0yMjE1MTMmcD0xJnU9OTA1NDM1OTc3JmxpPTg3MTI5NQ/index.html" target="_blank"><span style="font-size:10.0pt\;font-family:">CMA Accelerated Program</span></a></p>\n<p>\n	<span style="font-size:10.0pt\;font-family:">See you there!</span></p>\n<strong><span mso-ansi-language:="" style="font-size:10.0pt\;font-family:">Junita Thakorlal</span></strong><br>\n<span mso-fareast-font-family:="" mso-fareast-language:="" style="font-size:10.0pt\;font-family:"> Business Development Officer<br>\nCertified Management Accountants of British Columbia<br>\n</span><span mso-ansi-language:="" new="" style="font-size:12.0pt\;font-family:" times=""><a href="mailto:junita@cmabc.com"><span style="font-size:10.0pt\;font-family:">junita@cmabc.com<br>\n</span></a></span><span mso-ansi-language:="" style="font-size:10.0pt\;font-family:">604.484.7005</span>\n<p class="MsoNormal">\n	<br style="mso-special-character:line-break">\n	<br style="mso-special-character:line-break">\n	&nbsp\;</p>\n
LOCATION:Sheraton Vancouver Guildford Hotel Green Timbers Room
UID:e.749.2092
SEQUENCE:3
DTSTAMP:20260421T064639Z
URL:https://business.businessinsurrey.com/events/details/cma-information-session-07-25-2012-2092
END:VEVENT

END:VCALENDAR
