BEGIN:VCALENDAR
VERSION:2.0
PRODID:-//ChamberMaster//Event Calendar 2.0//EN
METHOD:PUBLISH
X-PUBLISHED-TTL:P3D
REFRESH-INTERVAL:P3D
CALSCALE:GREGORIAN
BEGIN:VEVENT
DTSTART;VALUE=DATE:20100413
DTEND;VALUE=DATE:20100414
TRANSP:TRANSPARENT
X-MICROSOFT-CDO-ALLDAYEVENT:TRUE
SUMMARY:City of Surrey Street Map
DESCRIPTION:
X-ALT-DESC;FMTTYPE=text/html:
LOCATION:
UID:e.749.384
SEQUENCE:3
DTSTAMP:20260422T223254Z
URL:https://business.businessinsurrey.com/events/details/city-of-surrey-street-map-04-13-2010-384
END:VEVENT

END:VCALENDAR
