BEGIN:VCALENDAR
VERSION:2.0
PRODID:-//ChamberMaster//Event Calendar 2.0//EN
METHOD:PUBLISH
X-PUBLISHED-TTL:P3D
REFRESH-INTERVAL:P3D
CALSCALE:GREGORIAN
BEGIN:VEVENT
DTSTART:20110224T170000Z
DTEND:20110224T200000Z
X-MICROSOFT-CDO-ALLDAYEVENT:FALSE
SUMMARY:CFIA Seminar (Canadian Food Inspection Agency)
DESCRIPTION:Crossing Borders - CFIA & FDA Regulated Goods\n\n\n\nCFIA & FDA Seminars - Staying informed will protect your bottom line\n\n\n\nPacific Customs Brokers is offering the following sessions related to CFIA (Canadian Food Inspection Agency) & FDA (U.S. Food and Drug Administration) products. Attending these sessions will provide you with a better understanding of how Customs and other government agencies interact\, thus helping your business avoid costly border delays and/or penalties that could in turn affect your company?s bottom line. These sessions will be of interest to Business Owners\, Operation Managers\, Carriers\, Controllers\, Purchasers\, Warehouse Managers\, Freight Coordinators and new employees related to the following industries: Seafood\, Produce\, Grocery\, Meat\, Horticulture\, Livestock\, Animal Feed & Drugs\, Cosmetics\, Medical Devices & Drugs and Radiation Emitting Products.\n\n\n\nTopics of the CFIA Seminar Include:\n\n* Introduction to CFIA\n\n* Documentation requirements\n\n* CFIA product coding\n\n* Customs release requirements\n\n* Changes after release\n\n* How to avoid monetary penalties\n\n\n\nTopics of the FDA Seminar Include:\n\n* Introduction to FDA\n\n* Documentation requirements\n\n* FDA prior notice requirements\n\n* FDA review / exam / sample procedures\n\n* Discussion on other government agencies\n\n* How to avoid monetary penalties\n\n\n\nPresentation Speakers:\n\nCarol Brown LCB\, CCS - Canadian Licensed Customs Broker and Certified Customs Specialist\, with 30 years experience in the import / export customs industry.\n\nApril Collier LCB\, CCS - U.S. Licensed Customs Broker and Certified Customs Specialist with over 25 years experience in the transportation industry.\n\nApril has been teaching Customs Brokerage\n\nClasses for over 15 years.
X-ALT-DESC;FMTTYPE=text/html:Crossing Borders - CFIA &amp\; FDA Regulated Goods<br />\n<br />\nCFIA &amp\; FDA Seminars - Staying informed will protect your bottom line<br />\n<br />\nPacific Customs Brokers is offering the following sessions related to CFIA (Canadian Food Inspection Agency) &amp\; FDA (U.S. Food and Drug Administration) products. Attending these sessions will provide you with a better understanding of how Customs and other government agencies interact\, thus helping your business avoid costly border delays and/or penalties that could in turn affect your company?s bottom line. These sessions will be of interest to Business Owners\, Operation Managers\, Carriers\, Controllers\, Purchasers\, Warehouse Managers\, Freight Coordinators and new employees related to the following industries: Seafood\, Produce\, Grocery\, Meat\, Horticulture\, Livestock\, Animal Feed &amp\; Drugs\, Cosmetics\, Medical Devices &amp\; Drugs and Radiation Emitting Products.<br />\n<br />\nTopics of the CFIA Seminar Include:<br />\n* Introduction to CFIA<br />\n* Documentation requirements<br />\n* CFIA product coding<br />\n* Customs release requirements<br />\n* Changes after release<br />\n* How to avoid monetary penalties<br />\n<br />\nTopics of the FDA Seminar Include:<br />\n* Introduction to FDA<br />\n* Documentation requirements<br />\n* FDA prior notice requirements<br />\n* FDA review / exam / sample procedures<br />\n* Discussion on other government agencies<br />\n* How to avoid monetary penalties<br />\n<br />\nPresentation Speakers:<br />\nCarol Brown LCB\, CCS - Canadian Licensed Customs Broker and Certified Customs Specialist\, with 30 years experience in the import / export customs industry.<br />\nApril Collier LCB\, CCS - U.S. Licensed Customs Broker and Certified Customs Specialist with over 25 years experience in the transportation industry.<br />\nApril has been teaching Customs Brokerage<br />\nClasses for over 15 years.
LOCATION:Executive Hotel & Conference Center 4201 Lougheed Highway Burnaby\, BC Canada V5C 3Y6
UID:e.749.1784
SEQUENCE:3
DTSTAMP:20260422T094714Z
URL:https://business.businessinsurrey.com/events/details/cfia-seminar-canadian-food-inspection-agency-02-24-2011-1784
END:VEVENT

END:VCALENDAR
