BEGIN:VCALENDAR
VERSION:2.0
PRODID:-//ChamberMaster//Event Calendar 2.0//EN
METHOD:PUBLISH
X-PUBLISHED-TTL:P3D
REFRESH-INTERVAL:P3D
CALSCALE:GREGORIAN
BEGIN:VEVENT
DTSTART:20160630T170000Z
DTEND:20160630T190000Z
X-MICROSOFT-CDO-ALLDAYEVENT:FALSE
SUMMARY:Celebration new Business Award
DESCRIPTION:Join us at cloverdale coffee company to celebrate the winners of The Clovies New Business of the year.
X-ALT-DESC;FMTTYPE=text/html:Join us at cloverdale coffee company to celebrate the winners of The Clovies New Business of the year.
LOCATION:Cloverdale down town.
UID:e.749.4960
SEQUENCE:3
DTSTAMP:20260424T090017Z
URL:https://business.businessinsurrey.com/events/details/celebration-new-business-award-06-30-2016-4960
END:VEVENT

END:VCALENDAR
