BEGIN:VCALENDAR
VERSION:2.0
PRODID:-//ChamberMaster//Event Calendar 2.0//EN
METHOD:PUBLISH
X-PUBLISHED-TTL:P3D
REFRESH-INTERVAL:P3D
CALSCALE:GREGORIAN
BEGIN:VEVENT
DTSTART:20160217T170000Z
DTEND:20160217T233000Z
X-MICROSOFT-CDO-ALLDAYEVENT:FALSE
SUMMARY:Canadian Trade Compliance Seminar Series
DESCRIPTION:Attend part 1 to learn how to accurately complete required documentation and about Canada Customs' expectations to lay a solid foundation for other trade topics like H.S. classification\, free trade agreements and valuation. Understanding the importer of record's responsibilities can be the difference between keeping and losing your importing privileges. In-depth compliance verifications by customs agencies in recent years require that both importers and exporters establish adequate internal controls as well as maintain well-documented compliance procedures. Stay for part 2 to understand voluntary disclosure\, reasonable care and the various types of audits to which your company will be subject. Businesses that do not plan for a potential customs audit do so at their own risk.\n\n			\n\n			Topics Include\n\n			\n				\n					\n						\n						Part 1\n\n						\n							Responsibility of the importer\n							Role of the customs broker\n							CBSA and other government departments\n							Country of origin\n							Tariff classification\n							Free trade agreement eligibility\n							Entry types\n							Required documents and forms\n						\n						\n						\n						Part 2\n\n						\n							Trade compliance verifications\n							Customs audit triggers\n							Reasonable care\n							Record keeping\n							Risks of non-compliance\n							Monetary penalties and delays\n							Voluntary disclosure\n							PIP enrollment and the benefits
X-ALT-DESC;FMTTYPE=text/html:<table style="height:85px\; width:535px">\n	<tbody>\n		<tr>\n			<td>\n			<p style="text-align:justify">Attend part 1 to learn how to accurately complete required documentation and about Canada Customs&rsquo\; expectations to lay a solid foundation for other trade topics like H.S. classification\, free trade agreements and valuation. Understanding the importer of record&rsquo\;s responsibilities can be the difference between keeping and losing your importing privileges. In-depth compliance verifications by customs agencies in recent years require that both importers and exporters establish adequate internal controls as well as maintain well-documented compliance procedures. Stay for part 2 to understand voluntary disclosure\, reasonable care and the various types of audits to which your company will be subject. Businesses that do not plan for a potential customs audit do so at their own risk.</p>\n\n			<h3><br />\n			Topics Include</h3>\n\n			<table style="height:85px\; width:535px">\n				<tbody>\n					<tr>\n						<td>\n						<p><strong>Part 1</strong></p>\n\n						<ul>\n							<li>Responsibility of the importer</li>\n							<li>Role of the customs broker</li>\n							<li>CBSA and other government departments</li>\n							<li>Country of origin</li>\n							<li>Tariff classification</li>\n							<li>Free trade agreement eligibility</li>\n							<li>Entry types</li>\n							<li>Required documents and forms</li>\n						</ul>\n						</td>\n						<td>\n						<p><strong>Part 2</strong></p>\n\n						<ul>\n							<li>Trade compliance verifications</li>\n							<li>Customs audit triggers</li>\n							<li>Reasonable care</li>\n							<li>Record keeping</li>\n							<li>Risks of non-compliance</li>\n							<li>Monetary penalties and delays</li>\n							<li>Voluntary disclosure</li>\n							<li>PIP enrollment and the benefits</li>\n						</ul>\n						</td>\n					</tr>\n				</tbody>\n			</table>\n			</td>\n			<td>&nbsp\;</td>\n		</tr>\n	</tbody>\n</table>\n
LOCATION:Pacific Customs Brokers\, 17637 1st Avenue\, Surrey\, BC
UID:e.749.4785
SEQUENCE:3
DTSTAMP:20260424T024422Z
URL:https://business.businessinsurrey.com/events/details/canadian-trade-compliance-seminar-series-02-17-2016-4785
END:VEVENT

END:VCALENDAR
