BEGIN:VCALENDAR
VERSION:2.0
PRODID:-//ChamberMaster//Event Calendar 2.0//EN
METHOD:PUBLISH
X-PUBLISHED-TTL:P3D
REFRESH-INTERVAL:P3D
CALSCALE:GREGORIAN
BEGIN:VEVENT
DTSTART;VALUE=DATE:20160223
DTEND;VALUE=DATE:20160225
TRANSP:TRANSPARENT
X-MICROSOFT-CDO-ALLDAYEVENT:TRUE
SUMMARY:Canadian Mental Health Association
DESCRIPTION:The Canadian Mental Health Association's (CMHA) annual National Bottom Line Conference brings together business leaders\, union representatives\, policy-makers\, researchers\, and workers to improve mental health in Canadian workplaces. The theme of our 2016 National Bottom Line Conference is Heroes in the Workplace: Stories from the Champions of Change. Hear from these heroes about their successes\, their failures\, the challenges they see ahead\, and what keeps them inspired to achieve psychological health and safety for all in the workplace. The conference will include a mix of speakers and skills-based workshops.
X-ALT-DESC;FMTTYPE=text/html:The Canadian Mental Health Association&#39\;s (CMHA) annual National Bottom Line Conference brings together business leaders\, union representatives\, policy-makers\, researchers\, and workers to improve mental health in Canadian workplaces. The theme of our 2016 National Bottom Line Conference is Heroes in the Workplace: Stories from the Champions of Change. Hear from these heroes about their successes\, their failures\, the challenges they see ahead\, and what keeps them inspired to achieve psychological health and safety for all in the workplace. The conference will include a mix of speakers and skills-based workshops.
LOCATION:Vancouver Marriott Pinnacle Downtown Hotel (1128 West Hastings Street\, Vancouver\, British Columbia)
UID:e.749.3712
SEQUENCE:3
DTSTAMP:20260424T024624Z
URL:https://business.businessinsurrey.com/events/details/canadian-mental-health-association-02-23-2016-3712
END:VEVENT

END:VCALENDAR
