BEGIN:VCALENDAR
VERSION:2.0
PRODID:-//ChamberMaster//Event Calendar 2.0//EN
METHOD:PUBLISH
X-PUBLISHED-TTL:P3D
REFRESH-INTERVAL:P3D
CALSCALE:GREGORIAN
BEGIN:VEVENT
DTSTART:20160204T150000Z
DTEND:20160204T171500Z
X-MICROSOFT-CDO-ALLDAYEVENT:FALSE
SUMMARY:Canadian Importing for Beginners Webinar Series
DESCRIPTION:These 60-minute webinars will provide an efficient and comprehensive introduction to the importing process into Canada. We will cover the parties involved in the supply chain\, basic compliance considerations prior to importing\, common entry types\, free trade agreement eligibility\, a brief overview of how to accurately complete documentation\, monetary penalties and more.\n\n\n\nTopics Include\n\n\n	\n		\n			\n			Part 1\n\n			\n				Parties involved\n				Considerations prior to importing\n				Tariff classification and its impact\n				Free trade agreements\n				The customs release process\n				Entry types\n				Documentation requirements\n				Methods of valuation\n				Risks of non-compliance\n			\n			\n			\n			Part 2\n\n			\n				Review/expand on Part 1\n				Non-resident importing\n				Tariff classification\n				NAFTA\n				PST / GST / HST\n				Excise tax\n				ACI eManifest\n				Customs audits and examinations\n				AMPS\n			\n			\n		\n	\n\n\nWho Should Attend\n\nLogistics staff of:\n\n\n	\n		\n			\n			\n				Companies considering importing\n				Companies recently started importing\n			\n			\n			\n			\n				Companies importing with new staff\n				Anyone involved in the import process
X-ALT-DESC;FMTTYPE=text/html:<p style="text-align:justify">These 60-minute webinars will provide an efficient and comprehensive introduction to the importing process into Canada. We will cover the parties involved in the supply chain\, basic compliance considerations prior to importing\, common entry types\, free trade agreement eligibility\, a brief overview of how to accurately complete documentation\, monetary penalties and more.</p>\n\n<h3><br />\nTopics Include</h3>\n\n<table style="height:85px\; width:535px">\n	<tbody>\n		<tr>\n			<td>\n			<p><strong>Part 1</strong></p>\n\n			<ul>\n				<li>Parties involved</li>\n				<li>Considerations prior to importing</li>\n				<li>Tariff classification and its impact</li>\n				<li>Free trade agreements</li>\n				<li>The customs release process</li>\n				<li>Entry types</li>\n				<li>Documentation requirements</li>\n				<li>Methods of valuation</li>\n				<li>Risks of non-compliance</li>\n			</ul>\n			</td>\n			<td>\n			<p><strong>Part 2</strong></p>\n\n			<ul>\n				<li>Review/expand on Part 1</li>\n				<li>Non-resident importing</li>\n				<li>Tariff classification</li>\n				<li>NAFTA</li>\n				<li>PST / GST / HST</li>\n				<li>Excise tax</li>\n				<li>ACI eManifest</li>\n				<li>Customs audits and examinations</li>\n				<li>AMPS</li>\n			</ul>\n			</td>\n		</tr>\n	</tbody>\n</table>\n\n<h3>Who Should Attend</h3>\n\n<p>Logistics staff of:</p>\n\n<table style="height:10px\; width:535px">\n	<tbody>\n		<tr>\n			<td>\n			<ul>\n				<li>Companies considering importing</li>\n				<li>Companies recently started importing</li>\n			</ul>\n			</td>\n			<td>\n			<ul>\n				<li>Companies importing with new staff</li>\n				<li>Anyone involved in the import process</li>\n			</ul>\n			</td>\n		</tr>\n	</tbody>\n</table>\n
LOCATION:Online from any computer or mobile device
UID:e.749.4782
SEQUENCE:3
DTSTAMP:20260424T024056Z
URL:https://business.businessinsurrey.com/events/details/canadian-importing-for-beginners-webinar-series-02-04-2016-4782
END:VEVENT

END:VCALENDAR
