BEGIN:VCALENDAR
VERSION:2.0
PRODID:-//ChamberMaster//Event Calendar 2.0//EN
METHOD:PUBLISH
X-PUBLISHED-TTL:P3D
REFRESH-INTERVAL:P3D
CALSCALE:GREGORIAN
BEGIN:VEVENT
DTSTART:20150901T220000Z
DTEND:20150902T010000Z
X-MICROSOFT-CDO-ALLDAYEVENT:FALSE
SUMMARY:Canadian Blood Services - Open House/Networking
DESCRIPTION:Join us on September 1 from 3-6pm to: Learn your blood type Tour the blood donor clinic Network
X-ALT-DESC;FMTTYPE=text/html:Join us on September 1 from 3-6pm to: Learn your blood type Tour the blood donor clinic Network
LOCATION:15285 101 Avenue\, Unit C2 Surrey\, BC V3R 8X8
UID:e.749.3647
SEQUENCE:3
DTSTAMP:20260423T184758Z
URL:https://business.businessinsurrey.com/events/details/canadian-blood-services-open-house-networking-09-01-2015-3647
END:VEVENT

END:VCALENDAR
