BEGIN:VCALENDAR
VERSION:2.0
PRODID:-//ChamberMaster//Event Calendar 2.0//EN
METHOD:PUBLISH
X-PUBLISHED-TTL:P3D
REFRESH-INTERVAL:P3D
CALSCALE:GREGORIAN
BEGIN:VEVENT
DTSTART:20120601T160000Z
DTEND:20120601T190000Z
X-MICROSOFT-CDO-ALLDAYEVENT:FALSE
SUMMARY:Business Opportunities for Canada in Vietnam
DESCRIPTION:+ Seminar topic:                 Business Opportunities for Canada in Vietnam\n\n	+ Partnership organizer:    Vancouver Board of Trade\n\n	+ Venue:                            Pan Pacific Hotel at Canada Place\, Vancouver\n\n	+ Date:                               June 1st\, 2012\n\n	+ Time:                               9:00 AM  - 12:00 Noon\n\n	+ Contact:                           Heather Sharpe  - Events Manager\n\n	                                           The Vancouver Board of Trade\n\n	                                            Direct: 604-640-5487\n\n	                                            Fax:    604-681-0437\n\n	                                            Email: hsharpe@boardoftrade.com\n\n	                                            www.boardoftrade.com \n\n	\n\n	8:45 am Registration and networking\n\n	9:00 to 9:10 am Welcome and introduction by Iain Black\, President & CEO of Vancouver Board of Trade (10 mins)\n\n	9:10 to 9:20 am A short speech by the former Canadian Ambassador to Vietnam\, Amb Gabriel Lessard (10 mins)\n\n	9:20 to 9:30 am A short speech by Lieu Van Tran\, President of Binh Duong Industrial Zones Authorities - Vietnam Government side (10 mins)\n\n	9:30 to 9:50 am A presentation on Vietnam\, Binh Duong and the New City by\n\n	Dien Son Vo\, Advisory & Marketing Director\, Becamex IDC Corp\, Vietnam  (20 mins)\n\n	9:50 to 10:05 am A short presentation on Vietnam comparing to other countries in Asia by Chris Runckel\, President of Runckel & Associates (15 mins)\n\n	10:05 to 10:15 am Coffee break (10 mins)\n\n	10:15 to 10:35 am Testimonial: A short speech by Dan Pak\, President of Dan On Foods\,\n\n	a Canadian business currently doing business in Binh Duong (20 mins)\n\n	10:35 to 10:45 am A short explanation by Canadian Department of Foreign Affairs and International Trade (DFAIT) official about financial assistance to Canadian companies going to Vietnam\n\n	10:45 to 10:55 am: A short explanation by Edwina Ramirez\, Southeast Asia & Oceania Manager- Ministry of Jobs\, Tourism and Innovation- about how they can help Canadian investors interested in Vietnam\n\n	10:55 to 11:15 am: A short speech by Mr. Bill Johnson\, former Consul General in Ho Chi Minh city\n\n	11:15 to 11:30 am Testimonial: A short speech by Marketing Manager of Fraser International College/Simon Fraser University (SFU)\, Canada\n\n	11:30 to 12:00 noon: Questions and Answers\n\n	 \n\n	In addition to the seminar\, the Vietnam Binh Duong delegation can meet with particular businesses that have expressed interest in investing in Vietnam for lunch or meet for coffee later.\n\n	 \n\n	2:30 PM: One -to-one meeting with Canadian companies that are really interested in Vietnam at the BC Showcase located at Suite 1700   800 Robson Street Vancouver (at Howe St)
X-ALT-DESC;FMTTYPE=text/html:<div class="gmail_extra">\n	+ Seminar topic:&nbsp\;&nbsp\;&nbsp\;&nbsp\;&nbsp\;&nbsp\;&nbsp\;&nbsp\;&nbsp\;&nbsp\;&nbsp\;&nbsp\;&nbsp\;&nbsp\;&nbsp\;&nbsp\; Business Opportunities for Canada in Vietnam</div>\n<div class="gmail_extra">\n	+ Partnership organizer:&nbsp\;&nbsp\;&nbsp\; Vancouver Board of Trade</div>\n<div class="gmail_extra">\n	+ Venue:&nbsp\;&nbsp\;&nbsp\;&nbsp\;&nbsp\;&nbsp\;&nbsp\;&nbsp\;&nbsp\;&nbsp\;&nbsp\;&nbsp\;&nbsp\;&nbsp\;&nbsp\;&nbsp\;&nbsp\;&nbsp\;&nbsp\;&nbsp\;&nbsp\;&nbsp\;&nbsp\;&nbsp\;<wbr />&nbsp\;&nbsp\;&nbsp\; Pan Pacific Hotel at Canada Place\, Vancouver</div>\n<div class="gmail_extra">\n	+ Date:&nbsp\;&nbsp\;&nbsp\;&nbsp\;&nbsp\;&nbsp\;&nbsp\;&nbsp\;&nbsp\;&nbsp\;&nbsp\;&nbsp\;&nbsp\;&nbsp\;&nbsp\;&nbsp\;&nbsp\;&nbsp\;&nbsp\;&nbsp\;&nbsp\;&nbsp\;&nbsp\;&nbsp\;&nbsp\;<wbr />&nbsp\;&nbsp\;&nbsp\;&nbsp\;&nbsp\; June 1st\, 2012</div>\n<div class="gmail_extra">\n	+ Time:&nbsp\;&nbsp\;&nbsp\;&nbsp\;&nbsp\;&nbsp\;&nbsp\;&nbsp\;&nbsp\;&nbsp\;&nbsp\;&nbsp\;&nbsp\;&nbsp\;&nbsp\;&nbsp\;&nbsp\;&nbsp\;&nbsp\;&nbsp\;&nbsp\;&nbsp\;&nbsp\;&nbsp\;&nbsp\;<wbr />&nbsp\;&nbsp\;&nbsp\;&nbsp\;&nbsp\; 9:00 AM&nbsp\; - 12:00 Noon</div>\n<div class="gmail_extra">\n	+ Contact:&nbsp\;&nbsp\;&nbsp\;&nbsp\;&nbsp\;&nbsp\;&nbsp\;&nbsp\;&nbsp\;&nbsp\;&nbsp\;&nbsp\;&nbsp\;&nbsp\;&nbsp\;&nbsp\;&nbsp\;&nbsp\;&nbsp\;&nbsp\;&nbsp\;&nbsp\;<wbr />&nbsp\;&nbsp\;&nbsp\;&nbsp\; Heather Sharpe&nbsp\; - Events Manager</div>\n<div class="gmail_extra">\n	&nbsp\;&nbsp\;&nbsp\;&nbsp\;&nbsp\;&nbsp\;&nbsp\;&nbsp\;&nbsp\;&nbsp\;&nbsp\;&nbsp\;&nbsp\;&nbsp\;&nbsp\;&nbsp\;&nbsp\;&nbsp\;&nbsp\;&nbsp\;&nbsp\;&nbsp\;&nbsp\;&nbsp\;&nbsp\;&nbsp\;&nbsp\;&nbsp\;&nbsp\;&nbsp\;<wbr />&nbsp\;&nbsp\;&nbsp\;&nbsp\;&nbsp\;&nbsp\;&nbsp\;&nbsp\;&nbsp\;&nbsp\;&nbsp\;&nbsp\; The Vancouver Board of Trade<br />\n	&nbsp\;&nbsp\;&nbsp\;&nbsp\;&nbsp\;&nbsp\;&nbsp\;&nbsp\;&nbsp\;&nbsp\;&nbsp\;&nbsp\;&nbsp\;&nbsp\;&nbsp\;&nbsp\;&nbsp\;&nbsp\;&nbsp\;&nbsp\;&nbsp\;&nbsp\;&nbsp\;&nbsp\;&nbsp\;&nbsp\;&nbsp\;&nbsp\;&nbsp\;&nbsp\;<wbr />&nbsp\;&nbsp\;&nbsp\;&nbsp\;&nbsp\;&nbsp\;&nbsp\;&nbsp\;&nbsp\;&nbsp\;&nbsp\;&nbsp\;&nbsp\; Direct: <a href="tel:604-640-5487" target="_blank" value="+16046405487">604-640-5487</a><br />\n	&nbsp\;&nbsp\;&nbsp\;&nbsp\;&nbsp\;&nbsp\;&nbsp\;&nbsp\;&nbsp\;&nbsp\;&nbsp\;&nbsp\;&nbsp\;&nbsp\;&nbsp\;&nbsp\;&nbsp\;&nbsp\;&nbsp\;&nbsp\;&nbsp\;&nbsp\;&nbsp\;&nbsp\;&nbsp\;&nbsp\;&nbsp\;&nbsp\;&nbsp\;&nbsp\;<wbr />&nbsp\;&nbsp\;&nbsp\;&nbsp\;&nbsp\;&nbsp\;&nbsp\;&nbsp\;&nbsp\;&nbsp\;&nbsp\;&nbsp\;&nbsp\; Fax:&nbsp\;&nbsp\;&nbsp\; <a href="tel:604-681-0437" target="_blank" value="+16046810437">604-681-0437</a></div>\n<div class="gmail_extra">\n	<wbr />&nbsp\;&nbsp\;&nbsp\;&nbsp\;&nbsp\;&nbsp\;&nbsp\;&nbsp\;&nbsp\;&nbsp\;&nbsp\;&nbsp\;&nbsp\;&nbsp\;&nbsp\;&nbsp\;&nbsp\;&nbsp\;&nbsp\;&nbsp\;&nbsp\;&nbsp\;&nbsp\;&nbsp\;&nbsp\;&nbsp\;&nbsp\;&nbsp\;&nbsp\;&nbsp\;&nbsp\;&nbsp\;&nbsp\;&nbsp\;&nbsp\;&nbsp\;&nbsp\;&nbsp\;&nbsp\;&nbsp\;&nbsp\;&nbsp\;&nbsp\; Email: <a href="mailto:hsharpe@boardoftrade.com" target="_blank">hsharpe@boardoftrade.com</a><br />\n	&nbsp\;&nbsp\;&nbsp\;&nbsp\;&nbsp\;&nbsp\;&nbsp\;&nbsp\;&nbsp\;&nbsp\;&nbsp\;&nbsp\;&nbsp\;&nbsp\;&nbsp\;&nbsp\;&nbsp\;&nbsp\;&nbsp\;&nbsp\;&nbsp\;&nbsp\;&nbsp\;&nbsp\;&nbsp\;&nbsp\;&nbsp\;&nbsp\;&nbsp\;&nbsp\;<wbr />&nbsp\;&nbsp\;&nbsp\;&nbsp\;&nbsp\;&nbsp\;&nbsp\;&nbsp\;&nbsp\;&nbsp\;&nbsp\;&nbsp\;&nbsp\; <a href="http://www.boardoftrade.com/" target="_blank">www.boardoftrade.com</a>&nbsp\;<br />\n	<br />\n	8:45 am Registration and networking<br />\n	9:00 to 9:10 am Welcome and introduction by <strong>Iain Black</strong>\, President &amp\; CEO of Vancouver Board of Trade (10 mins)<br />\n	9:10 to 9:20 am A short speech by the former Canadian Ambassador to Vietnam\, Amb <strong>Gabriel Lessard</strong> (10 mins)<br />\n	9:20 to 9:30 am A short speech by <strong>Lieu Van Tran</strong>\, President of Binh Duong Industrial Zones Authorities - Vietnam Government side (10 mins)<br />\n	9:30 to 9:50 am A presentation on Vietnam\, Binh Duong and the New City by<br />\n	<strong>Dien Son Vo</strong>\, Advisory &amp\; Marketing Director\, Becamex IDC Corp\, Vietnam &nbsp\;(20 mins)<br />\n	9:50 to 10:05 am A short presentation on Vietnam comparing to other countries in Asia by <strong>Chris Runckel\, </strong>President of Runckel &amp\; Associates (15 mins)<br />\n	10:05 to 10:15 am Coffee break (10 mins)<br />\n	10:15 to 10:35 am Testimonial: A short speech by <strong>Dan Pak</strong>\, President of Dan On Foods\,<br />\n	a Canadian business currently doing business in Binh Duong (20 mins)<br />\n	10:35 to 10:45 am A short explanation by Canadian Department of Foreign Affairs and International Trade (DFAIT) official about financial assistance to Canadian companies going to Vietnam<br />\n	10:45 to 10:55 am: A short explanation by <strong>Edwina Ramirez</strong>\, Southeast Asia &amp\; Oceania Manager- Ministry of Jobs\, Tourism and Innovation- about how they can help Canadian investors interested in Vietnam<br />\n	10:55 to 11:15 am: A short speech by <strong>Mr. Bill Johnson</strong>\, former Consul General in Ho Chi Minh city<br />\n	11:15 to 11:30 am Testimonial: A short speech by Marketing Manager of <strong>Fraser International College</strong>/<strong>Simon Fraser University</strong> (<strong>SFU</strong>)\, Canada<br />\n	11:30 to 12:00 noon: Questions and Answers<br />\n	&nbsp\;<br />\n	In addition to the seminar\, the Vietnam Binh Duong delegation can meet with particular businesses that have expressed interest in investing in Vietnam for lunch or meet for coffee later.<br />\n	&nbsp\;<br />\n	2:30 PM: One -to-one meeting with Canadian companies that are really interested in Vietnam at the BC Showcase located at Suite 1700 &ndash\; 800 Robson Street Vancouver (at Howe St)<br />\n	&nbsp\;</div>\n
LOCATION:
UID:e.749.2034
SEQUENCE:3
DTSTAMP:20260421T083350Z
URL:https://business.businessinsurrey.com/events/details/business-opportunities-for-canada-in-vietnam-06-01-2012-2034
END:VEVENT

END:VCALENDAR
