BEGIN:VCALENDAR
VERSION:2.0
PRODID:-//ChamberMaster//Event Calendar 2.0//EN
METHOD:PUBLISH
X-PUBLISHED-TTL:P3D
REFRESH-INTERVAL:P3D
CALSCALE:GREGORIAN
BEGIN:VEVENT
DTSTART:20151015T140000Z
DTEND:20151015T160000Z
X-MICROSOFT-CDO-ALLDAYEVENT:FALSE
SUMMARY:Business in Vancouver
DESCRIPTION:Join us for breakfast and a panel discussion on family business. When is it a good idea to get guidance from outside the family? How do you manage family members and what are the things to consider when building a succession plan? The BIV Family Business panel discussion will tackle some of the issues and challenges typically encountered when running a family business.
X-ALT-DESC;FMTTYPE=text/html:Join us for breakfast and a panel discussion on family business. When is it a good idea to get guidance from outside the family? How do you manage family members and what are the things to consider when building a succession plan? The BIV Family Business panel discussion will tackle some of the issues and challenges typically encountered when running a family business.
LOCATION:Sheraton Guildford Hotel 15269 104th Avenue\, Surrey\, BC
UID:e.749.3675
SEQUENCE:3
DTSTAMP:20260423T214812Z
URL:https://business.businessinsurrey.com/events/details/business-in-vancouver-10-15-2015-3675
END:VEVENT

END:VCALENDAR
