BEGIN:VCALENDAR
VERSION:2.0
PRODID:-//ChamberMaster//Event Calendar 2.0//EN
METHOD:PUBLISH
X-PUBLISHED-TTL:P3D
REFRESH-INTERVAL:P3D
CALSCALE:GREGORIAN
BEGIN:VEVENT
DTSTART:20150726T140000Z
DTEND:20150726T180000Z
X-MICROSOFT-CDO-ALLDAYEVENT:FALSE
SUMMARY:Burns Bog: Jog for the Bog
DESCRIPTION:Come to the Bog on Sunday\, July 26\, for a 5 or 10-km walk/run around the Delta Nature Reserve! The fun doesn't stop with the run\, either\; there'll be performances\, activities\, and a pancake breakfast (free for runners)! \n\n\n\nRegistration begins at 7:00 AM\; the run/walk starts at 8:30 AM. \n\n\n\nRegistration is now open - sign up before June 5 to get a discount! To register\, donate\, become a sponsor\, or just learn more about this event\, check out burnsbog.org or email events@burnsbog.org. \n\n\n\nDate & Times: \n\nSunday\, July 26\, 2015\n\n7:00am   Registration Opens\n\n8:15am   Warm Up\n\n8:30am   5km and 10km start\n\n10:30am   Pancake Breakfast\n\n11:00am   Run Awards\n\n\n\nPricing:\n\nEarly Bird (Before June 5): 5 Km Walk/Run = $40\, 10 Km Run = $45g.\n\n- Price includes pancake breakfast and a Moisture Wickling Performance T-Shirt.\n\nRegular (After June 5): 5 Km Walk/Run = $45\, 10 Km Run = $50. \n\n- Price includes pancake breakfast. Moisture Wickling Performance T-Shirt not guaranteed after early-bird deadline.
X-ALT-DESC;FMTTYPE=text/html:<p style="background-image: initial\; background-attachment: initial\; background-size: initial\; background-origin: initial\; background-clip: initial\; background-position: initial\; background-repeat: initial\;"><span style="font-size:11.0pt\;line-height:115%\;\nfont-family:&quot\;Arial&quot\;\,&quot\;sans-serif&quot\;\;mso-fareast-font-family:Calibri\;mso-fareast-theme-font:\nminor-latin\;letter-spacing:.15pt\;mso-ansi-language:EN-CA\;mso-fareast-language:\nEN-US\;mso-bidi-language:AR-SA">Come to the Bog on Sunday\, July 26\, for a 5 or 10-km walk/run around the Delta Nature Reserve! The fun doesn&#39\;t stop with the run\, either\; there&#39\;ll be performances\, activities\, and a pancake breakfast (free for runners)!<span class="apple-converted-space">&nbsp\;</span></span><br />\n<br />\n<span style="font-family: Arial\, sans-serif\; font-size: 11pt\; line-height: 115%\;">Registration begins at 7:00 AM\; the run/walk starts at 8:30 AM.&nbsp\;</span><br />\n<br />\n<span style="font-size: 11pt\; line-height: 115%\; font-family: Arial\, sans-serif\;">Registration is now open - sign up before June 5 to get a discount! To register\, donate\, become a sponsor\, or just learn more about this event\, check out burnsbog.org or email events@burnsbog.org<font color="#000000">.&nbsp\;</font></span><br />\n<br />\n<span style="font-family: Arial\, sans-serif\; font-size: 11pt\; line-height: 115%\;">Date &amp\; Times:&nbsp\;</span></p>\n\n<p style="line-height: 115%\; background-image: initial\; background-attachment: initial\; background-size: initial\; background-origin: initial\; background-clip: initial\; background-position: initial\; background-repeat: initial\;"><span style="font-size:11.0pt\;\nline-height:115%\;font-family:&quot\;Arial&quot\;\,&quot\;sans-serif&quot\;">Sunday\, July 26\, 2015<br />\n7:00am &ndash\; Registration Opens<br />\n8:15am &ndash\; Warm Up<br />\n8:30am &ndash\; 5km and 10km start<br />\n10:30am &ndash\; Pancake Breakfast<br />\n11:00am &ndash\; Run Awards<br />\n<br />\nPricing:</span><br />\n<span style="font-family: Arial\, sans-serif\; font-size: 11pt\; line-height: 115%\;">Early Bird (Before June 5): 5 Km Walk/Run = $40\, 10 Km Run = $45</span><span style="font-family: Arial\, sans-serif\; font-size: 11pt\; line-height: 115%\;">g.</span><br />\n<span style="font-family: Arial\, sans-serif\; font-size: 11pt\; line-height: 115%\;">- Price includes pancake breakfast and a Moisture Wickling Performance T-Shirt.</span><br />\n<span style="font-family: Arial\, sans-serif\; font-size: 11pt\; line-height: 115%\;">Regular (After June 5): 5 Km Walk/Run = $45\, 10 Km Run = $50</span><span style="font-family: Arial\, sans-serif\; font-size: 11pt\; line-height: 115%\;">.&nbsp\;</span><br />\n<span style="font-family: Arial\, sans-serif\; font-size: 14.6666669845581px\; line-height: 16.8666667938232px\;">- Price includes pancake breakfast.&nbsp\;Moisture Wickling Performance T-Shirt not guaranteed after early-bird deadline.</span></p>\n\n<p style="line-height: 115%\; background-image: initial\; background-attachment: initial\; background-size: initial\; background-origin: initial\; background-clip: initial\; background-position: initial\; background-repeat: initial\;"><span style="font-size:11.0pt\;\nline-height:115%\;font-family:&quot\;Arial&quot\;\,&quot\;sans-serif&quot\;"><o:p></o:p></span></p>\n<!--[endif]-->
LOCATION:Delta Nature Reserve (Drop off and Pick up at Planet Ice Delta\, 10388 Nordel Court\, Delta BC)
UID:e.749.3587
SEQUENCE:3
DTSTAMP:20260423T153028Z
URL:https://business.businessinsurrey.com/events/details/burns-bog-jog-for-the-bog-07-26-2015-3587
END:VEVENT

END:VCALENDAR
