BEGIN:VCALENDAR
VERSION:2.0
PRODID:-//ChamberMaster//Event Calendar 2.0//EN
METHOD:PUBLISH
X-PUBLISHED-TTL:P3D
REFRESH-INTERVAL:P3D
CALSCALE:GREGORIAN
BEGIN:VEVENT
DTSTART:20160730T170000Z
DTEND:20160730T220000Z
X-MICROSOFT-CDO-ALLDAYEVENT:FALSE
SUMMARY:Burns Bog Garage Sale
DESCRIPTION:Find treasures at our Garage Sale Donations welcome except no encyclopedias\, or electronic goods or National Geographics. Also some vintage estate costume jewelry!!!
X-ALT-DESC;FMTTYPE=text/html:Find treasures at our Garage Sale Donations welcome except no encyclopedias\, or electronic goods or National Geographics. Also some vintage estate costume jewelry!!!
LOCATION:outside our office 4 - 7953 120 St\, behind Greek Village Restaurant
UID:e.749.4974
SEQUENCE:3
DTSTAMP:20260424T070336Z
URL:https://business.businessinsurrey.com/events/details/burns-bog-garage-sale-07-30-2016-4974
END:VEVENT

END:VCALENDAR
