BEGIN:VCALENDAR
VERSION:2.0
PRODID:-//ChamberMaster//Event Calendar 2.0//EN
METHOD:PUBLISH
X-PUBLISHED-TTL:P3D
REFRESH-INTERVAL:P3D
CALSCALE:GREGORIAN
BEGIN:VEVENT
DTSTART:20150426T200000Z
DTEND:20150426T230000Z
X-MICROSOFT-CDO-ALLDAYEVENT:FALSE
SUMMARY:Burns Bog Earth Day Pilgrimage
DESCRIPTION:Celebrate Earth Day with a walk through the Delta Nature Reserve on Sunday\, April 26! Come and enjoy music\, displays\, and information about BC's largest raised peat bog!
X-ALT-DESC;FMTTYPE=text/html:Celebrate Earth Day with a walk through the Delta Nature Reserve on Sunday\, April 26! Come and enjoy music\, displays\, and information about BC&#39\;s largest raised peat bog!
LOCATION:Delta Nature Reserve\, 10388 Nordel Court\, Delta\, BC
UID:e.749.3315
SEQUENCE:3
DTSTAMP:20260423T104507Z
URL:https://business.businessinsurrey.com/events/details/burns-bog-earth-day-pilgrimage-04-26-2015-3315
END:VEVENT

END:VCALENDAR
