BEGIN:VCALENDAR
VERSION:2.0
PRODID:-//ChamberMaster//Event Calendar 2.0//EN
METHOD:PUBLISH
X-PUBLISHED-TTL:P3D
REFRESH-INTERVAL:P3D
CALSCALE:GREGORIAN
BEGIN:VEVENT
DTSTART:20160424T200000Z
DTEND:20160424T223000Z
X-MICROSOFT-CDO-ALLDAYEVENT:FALSE
SUMMARY:Burns Bog Conservation Society's Earth Day Pilgrimage
DESCRIPTION:Join us for the Earth Day Pilgrimage at the Delta Nature Reserve! Gather your families & pay homage to Mother Nature with a relaxing walk through nature. Listen to peaceful sounds of the flute\, drums\, and spiritual singing. Celebrate with the winners of the ?Bog?s Life? Art Contest & witness the unveiling of Wally?s memorial bench. Get a wildlife-themed t-shirt\, book\, Cobs treats\, and DeDutch coffee. See you there!
X-ALT-DESC;FMTTYPE=text/html:Join us for the Earth Day Pilgrimage at the Delta Nature Reserve! Gather your families &amp\; pay homage to Mother Nature with a relaxing walk through nature. Listen to peaceful sounds of the flute\, drums\, and spiritual singing. Celebrate with the winners of the ?Bog?s Life? Art Contest &amp\; witness the unveiling of Wally?s memorial bench. Get a wildlife-themed t-shirt\, book\, Cobs treats\, and DeDutch coffee. See you there!
LOCATION:10388 Nordel Court Delta\, BC V4G 1J7 (Planet Ice Delta's Parking Lot)
UID:e.749.4828
SEQUENCE:3
DTSTAMP:20260424T052848Z
URL:https://business.businessinsurrey.com/events/details/burns-bog-conservation-society-s-earth-day-pilgrimage-04-24-2016-4828
END:VEVENT

END:VCALENDAR
