BEGIN:VCALENDAR
VERSION:2.0
PRODID:-//ChamberMaster//Event Calendar 2.0//EN
METHOD:PUBLISH
X-PUBLISHED-TTL:P3D
REFRESH-INTERVAL:P3D
CALSCALE:GREGORIAN
BEGIN:VEVENT
DTSTART:20160515T000000Z
DTEND:20160515T064500Z
X-MICROSOFT-CDO-ALLDAYEVENT:FALSE
SUMMARY:Burns Bog Conservation Society Fundraising Pub Night
DESCRIPTION:Come to the Sundance Pub and Inn for Burgers\, Beer\, Karaoke\, a Silent Auction\, 50-50 Draws! Time subject to change. For more information\, contact bev@burnsbog.org
X-ALT-DESC;FMTTYPE=text/html:Come to the Sundance Pub and Inn for Burgers\, Beer\, Karaoke\, a Silent Auction\, 50-50 Draws! Time subject to change. For more information\, contact bev@burnsbog.org
LOCATION:Sundance Pub and Inn 6574 Ladner Trunk Road Delta\, BC V4K 3N3
UID:e.749.4901
SEQUENCE:3
DTSTAMP:20260424T070449Z
URL:https://business.businessinsurrey.com/events/details/burns-bog-conservation-society-fundraising-pub-night-05-14-2016-4901
END:VEVENT

END:VCALENDAR
