BEGIN:VCALENDAR
VERSION:2.0
PRODID:-//ChamberMaster//Event Calendar 2.0//EN
METHOD:PUBLISH
X-PUBLISHED-TTL:P3D
REFRESH-INTERVAL:P3D
CALSCALE:GREGORIAN
BEGIN:VEVENT
DTSTART:20160808T070000Z
DTEND:20160811T190000Z
X-MICROSOFT-CDO-ALLDAYEVENT:FALSE
SUMMARY:Burns Bog Book Sale
DESCRIPTION:Get your collection of summer/fall reading and help the planet twice over! Whether it's crime\, environment\, or romance\, we have the type of book you are looking for!
X-ALT-DESC;FMTTYPE=text/html:Get your collection of summer/fall reading and help the planet twice over! Whether it&#39\;s crime\, environment\, or romance\, we have the type of book you are looking for!
LOCATION:Scottsdale Centre 7031 - 120 Street\, Delta\, BC V4E 2A9
UID:e.749.4898
SEQUENCE:3
DTSTAMP:20260424T052809Z
URL:https://business.businessinsurrey.com/events/details/burns-bog-book-sale-08-08-2016-4898
END:VEVENT

END:VCALENDAR
