BEGIN:VCALENDAR
VERSION:2.0
PRODID:-//ChamberMaster//Event Calendar 2.0//EN
METHOD:PUBLISH
X-PUBLISHED-TTL:P3D
REFRESH-INTERVAL:P3D
CALSCALE:GREGORIAN
BEGIN:VEVENT
DTSTART:20150613T190000Z
DTEND:20150614T040000Z
X-MICROSOFT-CDO-ALLDAYEVENT:FALSE
SUMMARY:Burns Bog 2nd Annual Fundraising Golf Tournament
DESCRIPTION:Saturday\, June 13th. Save the date and polish your clubs\, because the Burns Bog Conservation Society\, the Burns Bog Conservation Foundation\, and VanCity are hosting the 2nd annual "Building for the Future" Fundraising Golf Tournament!\n\n\n\nWe live in a community that cares about its environment\, especially the bog in our backyard! Our big dream is to build an Education/Interpretive Centre in Burns Bog - By attending or supporting this golf tournament\, you can help make this dream a reality! All proceeds go towards building a Burns Bog Nature Centre.\n\n\n\nThe tournament will be held at Eaglequest Coyote Creek (7778 152nd Street\, Surrey\, BC) from 11AM to 9PM. Registration includes golf\, Coyote's famous banquet dinner\, and a day of fun and prizes!\n\n\n\nPrice: $95\n\n\n\nTo find out more\, check out burnsbog.org or email bev@burnsbog.org.
X-ALT-DESC;FMTTYPE=text/html:<span style="color: rgb(0\, 0\, 0)\; font-family: verdana\, arial\, helvetica\, sans-serif\; font-size: 11px\; line-height: normal\; background-color: rgb(249\, 249\, 249)\;">Saturday\, June 13th. Save the date and polish your clubs\, because the Burns Bog Conservation Society\, the Burns Bog Conservation Foundation\, and VanCity are hosting the 2nd annual &quot\;Building for the Future&quot\; Fundraising Golf Tournament!</span><br style="color: rgb(0\, 0\, 0)\; font-family: verdana\, arial\, helvetica\, sans-serif\; font-size: 11px\; line-height: normal\;" />\n<br style="color: rgb(0\, 0\, 0)\; font-family: verdana\, arial\, helvetica\, sans-serif\; font-size: 11px\; line-height: normal\;" />\n<span style="color: rgb(0\, 0\, 0)\; font-family: verdana\, arial\, helvetica\, sans-serif\; font-size: 11px\; line-height: normal\; background-color: rgb(249\, 249\, 249)\;">We live in a community that cares about its environment\, especially the bog in our backyard! Our big dream is to build an Education/Interpretive Centre in Burns Bog - By attending or supporting this golf tournament\, you can help make this dream a reality! All proceeds go towards building a Burns Bog Nature Centre.</span><br style="color: rgb(0\, 0\, 0)\; font-family: verdana\, arial\, helvetica\, sans-serif\; font-size: 11px\; line-height: normal\;" />\n<br style="color: rgb(0\, 0\, 0)\; font-family: verdana\, arial\, helvetica\, sans-serif\; font-size: 11px\; line-height: normal\;" />\n<span style="color: rgb(0\, 0\, 0)\; font-family: verdana\, arial\, helvetica\, sans-serif\; font-size: 11px\; line-height: normal\; background-color: rgb(249\, 249\, 249)\;">The tournament will be held at Eaglequest Coyote Creek (7778 152nd Street\, Surrey\, BC) from 11AM to 9PM. Registration includes golf\, Coyote&#39\;s famous banquet dinner\, and a day of fun and prizes!</span><br style="color: rgb(0\, 0\, 0)\; font-family: verdana\, arial\, helvetica\, sans-serif\; font-size: 11px\; line-height: normal\;" />\n<br style="color: rgb(0\, 0\, 0)\; font-family: verdana\, arial\, helvetica\, sans-serif\; font-size: 11px\; line-height: normal\;" />\n<span style="color: rgb(0\, 0\, 0)\; font-family: verdana\, arial\, helvetica\, sans-serif\; font-size: 11px\; line-height: normal\; background-color: rgb(249\, 249\, 249)\;">Price: $95</span><br style="color: rgb(0\, 0\, 0)\; font-family: verdana\, arial\, helvetica\, sans-serif\; font-size: 11px\; line-height: normal\;" />\n<br style="color: rgb(0\, 0\, 0)\; font-family: verdana\, arial\, helvetica\, sans-serif\; font-size: 11px\; line-height: normal\;" />\n<span style="color: rgb(0\, 0\, 0)\; font-family: verdana\, arial\, helvetica\, sans-serif\; font-size: 11px\; line-height: normal\; background-color: rgb(249\, 249\, 249)\;">To find out more\, check out burnsbog.org or email bev@burnsbog.org.</span>
LOCATION:Eaglequest Golf Course 7778-152 St. Surrey\, BC
UID:e.749.3589
SEQUENCE:3
DTSTAMP:20260423T135914Z
URL:https://business.businessinsurrey.com/events/details/burns-bog-2nd-annual-fundraising-golf-tournament-06-13-2015-3589
END:VEVENT

END:VCALENDAR
