BEGIN:VCALENDAR
VERSION:2.0
PRODID:-//ChamberMaster//Event Calendar 2.0//EN
METHOD:PUBLISH
X-PUBLISHED-TTL:P3D
REFRESH-INTERVAL:P3D
CALSCALE:GREGORIAN
BEGIN:VEVENT
DTSTART:20160819T010000Z
DTEND:20160819T043000Z
X-MICROSOFT-CDO-ALLDAYEVENT:FALSE
SUMMARY:Burns Bog 2016 Wine Sampling
DESCRIPTION:Bring your friends and enjoy fine wines from local wineries. Coupled with delicious hors d'oeuvres from One20\, what's not to love?
X-ALT-DESC;FMTTYPE=text/html:Bring your friends and enjoy fine wines from local wineries. Coupled with delicious hors d&#39\;oeuvres from One20\, what&#39\;s not to love?
LOCATION:One20 Pub 8037 120 Street\, Delta\, BC V4C 6P7
UID:e.749.4897
SEQUENCE:3
DTSTAMP:20260424T052556Z
URL:https://business.businessinsurrey.com/events/details/burns-bog-2016-wine-sampling-08-18-2016-4897
END:VEVENT

END:VCALENDAR
