BEGIN:VCALENDAR
VERSION:2.0
PRODID:-//ChamberMaster//Event Calendar 2.0//EN
METHOD:PUBLISH
X-PUBLISHED-TTL:P3D
REFRESH-INTERVAL:P3D
CALSCALE:GREGORIAN
BEGIN:VEVENT
DTSTART:20151209T150000Z
DTEND:20151209T170000Z
X-MICROSOFT-CDO-ALLDAYEVENT:FALSE
SUMMARY:Builders' Breakfast Forum
DESCRIPTION:In partnership with GVHBA\, we are hosting a free networking breakfast featuring two generations of the Bontkes family.
X-ALT-DESC;FMTTYPE=text/html:In partnership with GVHBA\, we are hosting a free networking breakfast featuring two generations of the Bontkes family.
LOCATION:NightShift Street Ministries\, 10635 King George Boulevard\, Surrey\, BC
UID:e.749.3702
SEQUENCE:3
DTSTAMP:20260423T232343Z
URL:https://business.businessinsurrey.com/events/details/builders-breakfast-forum-12-09-2015-3702
END:VEVENT

END:VCALENDAR
