BEGIN:VCALENDAR
VERSION:2.0
PRODID:-//ChamberMaster//Event Calendar 2.0//EN
METHOD:PUBLISH
X-PUBLISHED-TTL:P3D
REFRESH-INTERVAL:P3D
CALSCALE:GREGORIAN
BEGIN:VEVENT
DTSTART;VALUE=DATE:20101026
DTEND;VALUE=DATE:20101027
TRANSP:TRANSPARENT
X-MICROSOFT-CDO-ALLDAYEVENT:TRUE
SUMMARY:Better Business Bureau Torch Awards
DESCRIPTION:Celebrate Ethics!  Better Business Bureau hosts the Torch Awards gala luncheon on Tuesday\, October 26th\, 2010 at the Four Seasons Hotel in Vancouver.  CTV will be hosting this year's event.  The Torch Awards honours local businesses and individuals with an outstanding commitment to fair\, honest\, and ethical marketplace practices.  Tickets are $100 + HST for BBB Accredited Businesses or $130 + HST for Non BBB Accredited Businesses.   Register online at www.eplyevents.com/bbbtorchawards.   To learn more go to:  www.mbc.bbb.org/torchor email Susan Hooper at susanh@mbc.bbb.org.
X-ALT-DESC;FMTTYPE=text/html:<span style="font-size: 12px"><span style="font-family: arial\, sans-serif">Celebrate Ethics!&nbsp\; Better Business Bureau hosts the Torch Awards gala luncheon on Tuesday\, October 26<sup>th</sup>\, 2010 at the Four Seasons Hotel in Vancouver.&nbsp\; CTV will be hosting this year&rsquo\;s event.&nbsp\; The Torch Awards honours local businesses and individuals with an outstanding commitment to fair\, honest\, and ethical marketplace practices.&nbsp\; Tickets are $100 + HST for BBB Accredited Businesses or $130 + HST for Non BBB Accredited Businesses.&nbsp\;&nbsp\; Register online at </span><a href="http://www.eplyevents.com/bbbtorchawards" target="_blank" title="blocked::http://www.eplyevents.com/bbbtorchawards"><span style="color: #0000ff">www.eplyevents.com/bbbtorchawards</span></a>. &nbsp\;&nbsp\;To learn more go to:&nbsp\; <a href="http://www.mbc.bbb.org/torch" target="_blank" title="blocked::http://www.mbc.bbb.org/torch"><span style="color: #0000ff">www.mbc.bbb.org/torch</span></a>or email Susan Hooper at <a href="mailto:susanh@mbc.bbb.org" target="_blank" title="blocked::mailto:susanh@mbc.bbb.org"><span style="color: #0000ff">susanh@mbc.bbb.org</span></a>.&nbsp\;&nbsp\;</span><br />\n
LOCATION:Four Seasons Hotel\, Vancouver
UID:e.749.1676
SEQUENCE:3
DTSTAMP:20260422T150621Z
URL:https://business.businessinsurrey.com/events/details/better-business-bureau-torch-awards-10-26-2010-1676
END:VEVENT

END:VCALENDAR
