BEGIN:VCALENDAR
VERSION:2.0
PRODID:-//ChamberMaster//Event Calendar 2.0//EN
METHOD:PUBLISH
X-PUBLISHED-TTL:P3D
REFRESH-INTERVAL:P3D
CALSCALE:GREGORIAN
BEGIN:VEVENT
DTSTART:20160616T180000Z
DTEND:20160616T220000Z
X-MICROSOFT-CDO-ALLDAYEVENT:FALSE
SUMMARY:BETTER BUSINESS BUREAU'S 9TH ANNUAL TORCH AWARDS CEREMONY
DESCRIPTION:This year\, the Better Business Bureau serving Mainland B.C. will be hosting our 9th annual Torch Awards and encouraging businesses to get into the spotlight! We want to honour companies that have walked the extra mile to maintain a healthy\, honest marketplace in BC\, and give them the recognition and publicity they deserve.\n\n\n\nThis year Torch Awards is even bigger and better than the last! This year Torch will be taking place at a new venue which includes a spectacular view of our city. We have added a networking portion for guests to mingle and get to know one another\, a photo booth to take fun photos in and a short video of all the finalists that will be presented to those who attend. Enjoy great food and honour businesses who have put forth their efforts.\n\n\n\nSee you there!
X-ALT-DESC;FMTTYPE=text/html:<span style="font-family: 'Helvetica Neue'\, Helvetica\, Arial\, sans-serif\; font-size: 14px\; line-height: 20px\; background-color: rgb(244\, 244\, 244)\;">This year\, the Better Business Bureau serving Mainland B.C. will be hosting our 9th annual Torch Awards and encouraging businesses to get into the spotlight! We want to honour companies that have walked the extra mile to maintain a healthy\, honest marketplace in BC\, and give them the recognition and publicity they deserve.<br />\n<br />\nThis year Torch Awards is even bigger and better than the last! This year Torch will be taking place at a new venue which includes a spectacular view of our city. We have added a networking portion for guests to mingle and get to know one another\, a photo booth to take fun photos in and a short video of all the finalists that will be presented to those who attend. Enjoy great food and honour businesses who have put forth their efforts.<br />\n<br />\nSee you there!&nbsp\;</span>
LOCATION:DIAMOND BALLROOM - 4th Floor\, 1495 West 8th Avenue\, Vancouver
UID:e.749.4910
SEQUENCE:3
DTSTAMP:20260424T100957Z
URL:https://business.businessinsurrey.com/events/details/better-business-bureau-s-9th-annual-torch-awards-ceremony-06-16-2016-4910
END:VEVENT

END:VCALENDAR
