BEGIN:VCALENDAR
VERSION:2.0
PRODID:-//ChamberMaster//Event Calendar 2.0//EN
METHOD:PUBLISH
X-PUBLISHED-TTL:P3D
REFRESH-INTERVAL:P3D
CALSCALE:GREGORIAN
BEGIN:VEVENT
DTSTART:20160422T000000Z
DTEND:20160422T030000Z
X-MICROSOFT-CDO-ALLDAYEVENT:FALSE
SUMMARY:BETTER BUSINESS BUREAU NOMINEES COCKTAIL RECEPTION
DESCRIPTION:t's close to that time again! This year will be Better Business Bureau's 9th Year of recognizing businesses who have walked the extra mile to maintain a healthy\, honest marketplace in BC.\n\nThis is your change to get the recognition and publicity YOU deserve.\n\n\n\nPlease join us for a night of recognition and fun. Savor some champagne and hors d'oeuvres while enjoying the best view in North Vancouver! Network with other nominees have fun in our photo booth and receive your nominees certificate on behalf of the BBB. You will also receive a professional picture of you with your certificate and our President Danielle Primrose.\n\n\n\nCome join the fun!
X-ALT-DESC;FMTTYPE=text/html:<span style="font-family: 'Helvetica Neue'\, Helvetica\, Arial\, sans-serif\; font-size: 14px\; line-height: 20px\; background-color: rgb(244\, 244\, 244)\;">t&#39\;s close to that time again! This year will be Better Business Bureau&#39\;s 9th Year of recognizing businesses who have walked the extra mile to maintain a healthy\, honest marketplace in BC.<br />\nThis is your change to get the recognition and publicity YOU deserve.<br />\n<br />\nPlease join us for a night of recognition and fun. Savor some champagne and hors d&#39\;oeuvres while enjoying the best view in North Vancouver! Network with other nominees have fun in our photo booth and receive your nominees certificate on behalf of the BBB. You will also receive a professional picture of you with your certificate and our President Danielle Primrose.<br />\n<br />\nCome join the fun!</span>
LOCATION:The View on Lonsdale- 2121 Lonsdale Ave\, North Vancouver
UID:e.749.4911
SEQUENCE:3
DTSTAMP:20260424T052736Z
URL:https://business.businessinsurrey.com/events/details/better-business-bureau-nominees-cocktail-reception-04-21-2016-4911
END:VEVENT

END:VCALENDAR
