BEGIN:VCALENDAR
VERSION:2.0
PRODID:-//ChamberMaster//Event Calendar 2.0//EN
METHOD:PUBLISH
X-PUBLISHED-TTL:P3D
REFRESH-INTERVAL:P3D
CALSCALE:GREGORIAN
BEGIN:VEVENT
DTSTART:20160603T200000Z
DTEND:20160604T000000Z
X-MICROSOFT-CDO-ALLDAYEVENT:FALSE
SUMMARY:Beta Collective Open House
DESCRIPTION:Come celebrate Beta Collective's completion of its newly expanded coworking and office rental space in Downtown Surrey. There will be food\, drinks\, and prizes. The Open House is proudly sponsored by WSCU.
X-ALT-DESC;FMTTYPE=text/html:Come celebrate Beta Collective&#39\;s completion of its newly expanded coworking and office rental space in Downtown Surrey. There will be food\, drinks\, and prizes. The Open House is proudly sponsored by WSCU.
LOCATION:10318 Whalley Blvd. Surrey\, BC V3T 4H4
UID:e.749.4938
SEQUENCE:3
DTSTAMP:20260424T083241Z
URL:https://business.businessinsurrey.com/events/details/beta-collective-open-house-06-03-2016-4938
END:VEVENT

END:VCALENDAR
