BEGIN:VCALENDAR
VERSION:2.0
PRODID:-//ChamberMaster//Event Calendar 2.0//EN
METHOD:PUBLISH
X-PUBLISHED-TTL:P3D
REFRESH-INTERVAL:P3D
CALSCALE:GREGORIAN
BEGIN:VEVENT
DTSTART:20101007T144500Z
DTEND:20101007T163000Z
X-MICROSOFT-CDO-ALLDAYEVENT:FALSE
SUMMARY:Benefits Underwriting
DESCRIPTION:BC HRMA presents a "Benefits Underwriting and Flexible Benefits" Roundtable.
X-ALT-DESC;FMTTYPE=text/html:BC HRMA presents a &quot\;Benefits Underwriting and Flexible Benefits&quot\; Roundtable.
LOCATION:City of Surrey (14245 56th Ave\, Surrey)
UID:e.749.1685
SEQUENCE:3
DTSTAMP:20260422T133907Z
URL:https://business.businessinsurrey.com/events/details/benefits-underwriting-10-07-2010-1685
END:VEVENT

END:VCALENDAR
