BEGIN:VCALENDAR
VERSION:2.0
PRODID:-//ChamberMaster//Event Calendar 2.0//EN
METHOD:PUBLISH
X-PUBLISHED-TTL:P3D
REFRESH-INTERVAL:P3D
CALSCALE:GREGORIAN
BEGIN:VEVENT
DTSTART:20101118T200000Z
DTEND:20101119T003000Z
X-MICROSOFT-CDO-ALLDAYEVENT:FALSE
SUMMARY:BC HRMA - Interviewing Workshop
DESCRIPTION:Behavioural Interviewing Workshop\n\n	 \n\n	A crisis on the job. A conflict with a co-worker. A controversial issue that demands sensitivity. How would your job candidate respond in each scenario? Find out using behavioural interviewing techniques.\n\n	 \n\n	Date: Thursday\, November 18\, 2010\n\n	Time:  8:30am   4:30pm\n\n	Location: TBD\, Surrey\n\n	Fee:  Non-member $285 (by Nov. 4)\, $325 (post Nov.4).  Member $190 (by Nov.4)\, $230 (post Nov.4)\n\n	Link: https://ssl.bchrma.org/content/events/ls/details.cfm?EventID=035-160
X-ALT-DESC;FMTTYPE=text/html:<div>\n	<span style="font-size:14px\;"><strong>Behavioural Interviewing Workshop</strong></span></div>\n<div>\n	&nbsp\;</div>\n<div>\n	A crisis on the job. A conflict with a co-worker. A controversial issue that demands sensitivity. How would your job candidate respond in each scenario? Find out using behavioural interviewing techniques.</div>\n<div>\n	&nbsp\;</div>\n<div>\n	<strong>Date</strong>: Thursday\, November 18\, 2010</div>\n<div>\n	<strong>Time</strong>: &nbsp\;8:30am &ndash\; 4:30pm</div>\n<div>\n	<strong>Location</strong>: TBD\, Surrey</div>\n<div>\n	<strong>Fee</strong>: &nbsp\;Non-member $285 (by Nov. 4)\, $325 (post Nov.4). &nbsp\;Member $190 (by Nov.4)\, $230 (post Nov.4)</div>\n<div>\n	<strong>Link</strong>: <a href="https://ssl.bchrma.org/content/events/ls/details.cfm?EventID=035-160" target="_blank">https://ssl.bchrma.org/content/events/ls/details.cfm?EventID=035-160</a></div>
LOCATION:Location: TBD\, Surrey
UID:e.749.1709
SEQUENCE:3
DTSTAMP:20260422T120529Z
URL:https://business.businessinsurrey.com/events/details/bc-hrma-interviewing-workshop-11-18-2010-1709
END:VEVENT

END:VCALENDAR
