BEGIN:VCALENDAR
VERSION:2.0
PRODID:-//ChamberMaster//Event Calendar 2.0//EN
METHOD:PUBLISH
X-PUBLISHED-TTL:P3D
REFRESH-INTERVAL:P3D
CALSCALE:GREGORIAN
BEGIN:VEVENT
DTSTART:20101118T013000Z
DTEND:20101118T040000Z
X-MICROSOFT-CDO-ALLDAYEVENT:FALSE
SUMMARY:BC HRMA - Employee Accommodation
DESCRIPTION:Employee Accommodation (Fraser Valley November Roundtable)\n\n	 \n\n	This facilitated discussion will focus on areas such as seniority\, morale\, retirement\, early retirement\, bundling of duties where sometimes there are compensation/benefit implications. It will also explore what happens if accommodation leads to less than FTE hours/pay and the ultimate impact on multi-union environments.\n\n	 \n\n	Date: Wednesday\, November 17\, 2010\n\n	Time: 5:30pm   8:00pm\n\n	Location: Employee Training Centre\, 32315 South Fraser Way\, Abbotsford\n\n	Fee: Non-members $10.  Members free.\n\n	Link: https://ssl.bchrma.org/content/events/coi/rt_details.cfm?Meeting=FVR-067-RT
X-ALT-DESC;FMTTYPE=text/html:<div>\n	<span style="font-size:14px\;"><strong>Employee Accommodation (Fraser Valley November Roundtable)</strong></span></div>\n<div>\n	&nbsp\;</div>\n<div>\n	This facilitated discussion will focus on areas such as seniority\, morale\, retirement\, early retirement\, bundling of duties where sometimes there are compensation/benefit implications. It will also explore what happens if accommodation leads to less than FTE hours/pay and the ultimate impact on multi-union environments.</div>\n<div>\n	&nbsp\;</div>\n<div>\n	<strong>Date</strong>: Wednesday\, November 17\, 2010</div>\n<div>\n	<strong>Time</strong>: 5:30pm &ndash\; 8:00pm</div>\n<div>\n	<strong>Location</strong>: Employee Training Centre\, 32315 South Fraser Way\, Abbotsford</div>\n<div>\n	<strong>Fee</strong>: Non-members $10. &nbsp\;Members free.</div>\n<div>\n	<strong>Link</strong>: <a href="https://ssl.bchrma.org/content/events/coi/rt_details.cfm?Meeting=FVR-067-RT" target="_blank">https://ssl.bchrma.org/content/events/coi/rt_details.cfm?Meeting=FVR-067-RT</a></div>\n
LOCATION:Employee Training Centre\, 32315 South Fraser Way\, Abbotsford
UID:e.749.1708
SEQUENCE:3
DTSTAMP:20260422T120712Z
URL:https://business.businessinsurrey.com/events/details/bc-hrma-employee-accommodation-11-17-2010-1708
END:VEVENT

END:VCALENDAR
