BEGIN:VCALENDAR
VERSION:2.0
PRODID:-//ChamberMaster//Event Calendar 2.0//EN
METHOD:PUBLISH
X-PUBLISHED-TTL:P3D
REFRESH-INTERVAL:P3D
CALSCALE:GREGORIAN
BEGIN:VEVENT
DTSTART:20160924T180000Z
DTEND:20160924T200000Z
X-MICROSOFT-CDO-ALLDAYEVENT:FALSE
SUMMARY:BBQ Block Party
DESCRIPTION:Mainland Ford BBQ Block Party *GIVE AWAYS AND FREE FOOD * CANUCKS TICKETS OR DINNER FOR 2 @ BROWNS SOCIAL HOUSE * ALL PROCEEDS GO TO THE SURREY FOOD BANK. * RSVP TODAY aarti@mainlandford.com ADMISSION BY DONATION PLEASE BRING A NON PARISHABLE FOOD ITEM
X-ALT-DESC;FMTTYPE=text/html:Mainland Ford BBQ Block Party *GIVE AWAYS AND FREE FOOD * CANUCKS TICKETS OR DINNER FOR 2 @ BROWNS SOCIAL HOUSE * ALL PROCEEDS GO TO THE SURREY FOOD BANK. * RSVP TODAY aarti@mainlandford.com ADMISSION BY DONATION PLEASE BRING A NON PARISHABLE FOOD ITEM
LOCATION:MAINLAND FORD 14530 - 104TH AVENUE SURREY\, BC V3R 1L9
UID:e.749.5132
SEQUENCE:3
DTSTAMP:20260424T035507Z
URL:https://business.businessinsurrey.com/events/details/bbq-block-party-09-24-2016-5132
END:VEVENT

END:VCALENDAR
