BEGIN:VCALENDAR
VERSION:2.0
PRODID:-//ChamberMaster//Event Calendar 2.0//EN
METHOD:PUBLISH
X-PUBLISHED-TTL:P3D
REFRESH-INTERVAL:P3D
CALSCALE:GREGORIAN
BEGIN:VEVENT
DTSTART:20160826T000000Z
DTEND:20160826T020000Z
X-MICROSOFT-CDO-ALLDAYEVENT:FALSE
SUMMARY:August 25\, 2016 - Summer Sizzle Networking at Sandman Suites/Moxie's
DESCRIPTION:Don't let Summer get in the way of your networking! The Summer Sizzle Networking Series is designed to keep you connected in a fun\, Summer atmosphere. Sign up for one or come to all three!\n\n\n\nNetwork on the rooftop of Moxie's Grill & Bar to celebrate this sunny season the right way! Learn more about the Sandman Suites Guildford\, a luxury hotel in your own neighbourhood!\n\n\n\n  Complimentary drink from Moxie's!\n\n  Delicious appetizers!\n\n  Great networking opportunities!\n\n  Fabulous prizes!\n\n\n\nAdvance registration is required. At the event\, check in in the lobby of the\n\nSandman Suites Guildford and take a tour of the beautiful guest suites!
X-ALT-DESC;FMTTYPE=text/html:Don&rsquo\;t let Summer get in the way of your networking! The Summer Sizzle Networking Series is designed to keep you connected in a fun\, Summer atmosphere. Sign up for one or come to all three!<br />\n<br />\nNetwork on the rooftop of Moxie&rsquo\;s Grill &amp\; Bar to celebrate this sunny season the right way! Learn more about the Sandman Suites Guildford\, a luxury hotel in your own neighbourhood!<br />\n<br />\n&bull\; Complimentary drink from Moxie&rsquo\;s!<br />\n&bull\; Delicious appetizers!<br />\n&bull\; Great networking opportunities!<br />\n&bull\; Fabulous prizes!<br />\n<br />\nAdvance registration is required. At the event\, check in in the lobby of the<br />\nSandman Suites Guildford and take a tour of the beautiful guest suites!
LOCATION:Sandman Suites Guildford / Moxie's Grill & Bar 10608 151A Street\, Surrey
UID:e.749.4967
SEQUENCE:3
DTSTAMP:20260424T052858Z
URL:https://business.businessinsurrey.com/events/details/august-25-2016-summer-sizzle-networking-at-sandman-suites-moxie-s-08-25-2016-4967
END:VEVENT

END:VCALENDAR
