BEGIN:VCALENDAR
VERSION:2.0
PRODID:-//ChamberMaster//Event Calendar 2.0//EN
METHOD:PUBLISH
X-PUBLISHED-TTL:P3D
REFRESH-INTERVAL:P3D
CALSCALE:GREGORIAN
BEGIN:VEVENT
DTSTART:20150826T000000Z
DTEND:20150826T020000Z
X-MICROSOFT-CDO-ALLDAYEVENT:FALSE
SUMMARY:August 25\, 2015 - Summer Sizzle Rooftop Reception
DESCRIPTION:Network on the rooftop of Moxie's Grill & Bar to celebrate this sunny season the right way! Learn more about the Sandman Suites Guildford\, a luxury hotel in your own neighborhood!\n\n	Complimentary drink from Moxie's!\n	Delicious appetizers!\n	Great networking opportunities!\n	Fabulous prizes!
X-ALT-DESC;FMTTYPE=text/html:Network on the rooftop of Moxie&#39\;s Grill &amp\; Bar to celebrate this sunny season the right way! Learn more about the Sandman Suites Guildford\, a luxury hotel in your own neighborhood!\n<ul>\n	<li>Complimentary drink from Moxie&#39\;s!</li>\n	<li>Delicious appetizers!</li>\n	<li>Great networking opportunities!</li>\n	<li>Fabulous prizes!</li>\n</ul>\n
LOCATION:Moxie's Grill & Bar 10608 151 A Street\, Surrey BC
UID:e.749.3602
SEQUENCE:3
DTSTAMP:20260423T170809Z
URL:https://business.businessinsurrey.com/events/details/august-25-2015-summer-sizzle-rooftop-reception-08-25-2015-3602
END:VEVENT

END:VCALENDAR
