BEGIN:VCALENDAR
VERSION:2.0
PRODID:-//ChamberMaster//Event Calendar 2.0//EN
METHOD:PUBLISH
X-PUBLISHED-TTL:P3D
REFRESH-INTERVAL:P3D
CALSCALE:GREGORIAN
BEGIN:VEVENT
DTSTART;VALUE=DATE:20090825
DTEND;VALUE=DATE:20090826
TRANSP:TRANSPARENT
X-MICROSOFT-CDO-ALLDAYEVENT:TRUE
SUMMARY:August 25\, '09 - Summer Sizzle
DESCRIPTION:
X-ALT-DESC;FMTTYPE=text/html:
LOCATION:
UID:e.749.1534
SEQUENCE:3
DTSTAMP:20260423T104540Z
URL:https://business.businessinsurrey.com/events/details/august-25-09-summer-sizzle-08-25-2009-1534
END:VEVENT

END:VCALENDAR
