BEGIN:VCALENDAR
VERSION:2.0
PRODID:-//ChamberMaster//Event Calendar 2.0//EN
METHOD:PUBLISH
X-PUBLISHED-TTL:P3D
REFRESH-INTERVAL:P3D
CALSCALE:GREGORIAN
BEGIN:VEVENT
DTSTART:20160811T000000Z
DTEND:20160811T020000Z
X-MICROSOFT-CDO-ALLDAYEVENT:FALSE
SUMMARY:August 10\, 2016 - Summer Sizzle at Sheraton Vancouver Guildford Hotel
DESCRIPTION:Don't let Summer get in the way of your networking! The Summer Sizzle Networking Series is designed to keep you connected in a fun\, Summer atmosphere. Sign up for one or come to all three!\n\n\n\nEnjoy Summer season and network on the pool deck patio at the Sheraton Vancouver Guildford Hotel! They are Fraser Valley's only four-star\, three-diamond hotel and conference center\, featuring over 26\,000 square feet of function space and full service catering. Additional services include their award winning "Fresh Restaurant & Lounge.
X-ALT-DESC;FMTTYPE=text/html:Don&rsquo\;t let Summer get in the way of your networking! The Summer Sizzle Networking Series is designed to keep you connected in a fun\, Summer atmosphere. Sign up for one or come to all three!<br />\n<br />\nEnjoy Summer season and network on the pool deck patio at the Sheraton Vancouver Guildford Hotel! They are Fraser Valley&rsquo\;s only four-star\, three-diamond hotel and conference center\, featuring over 26\,000 square feet of function space and full service catering. Additional services include their award winning &ldquo\;Fresh Restaurant &amp\; Lounge.
LOCATION:Sheraton Vancouver Guildford Hotel Pool Deck 15269 104 Avenue\, Surrey
UID:e.749.4966
SEQUENCE:3
DTSTAMP:20260424T053015Z
URL:https://business.businessinsurrey.com/events/details/august-10-2016-summer-sizzle-at-sheraton-vancouver-guildford-hotel-08-10-2016-4966
END:VEVENT

END:VCALENDAR
