BEGIN:VCALENDAR
VERSION:2.0
PRODID:-//ChamberMaster//Event Calendar 2.0//EN
METHOD:PUBLISH
X-PUBLISHED-TTL:P3D
REFRESH-INTERVAL:P3D
CALSCALE:GREGORIAN
BEGIN:VEVENT
DTSTART:20150410T010000Z
DTEND:20150410T030000Z
X-MICROSOFT-CDO-ALLDAYEVENT:FALSE
SUMMARY:April 9\, 2015 - Business to Business Reception at Morgan Creek Golf Course
DESCRIPTION:Business to Business Reception at Morgan Creek Golf Course
X-ALT-DESC;FMTTYPE=text/html:Business to Business Reception at Morgan Creek Golf Course&nbsp\;&nbsp\;&nbsp\;&nbsp\;
LOCATION:Morgan Creek Golf Course 3500 Morgan Way Surrey\, BC
UID:e.749.2704
SEQUENCE:3
DTSTAMP:20260423T105201Z
URL:https://business.businessinsurrey.com/events/details/april-9-2015-business-to-business-reception-at-morgan-creek-golf-course-04-09-2015-2704
END:VEVENT

END:VCALENDAR
