BEGIN:VCALENDAR
VERSION:2.0
PRODID:-//ChamberMaster//Event Calendar 2.0//EN
METHOD:PUBLISH
X-PUBLISHED-TTL:P3D
REFRESH-INTERVAL:P3D
CALSCALE:GREGORIAN
BEGIN:VEVENT
DTSTART:20150409T143000Z
DTEND:20150409T163000Z
X-MICROSOFT-CDO-ALLDAYEVENT:FALSE
SUMMARY:April 9\, 2015 - Business in the City
DESCRIPTION:Have breakfast and network with your fellow Board of Trade members at this popular morning event.\n\n\n\nYou can help welcome our new members and establish new contacts too\, while you learn more about some of the advantages of belonging to the Surrey Board of Trade.\n\n\n\nFor more information contact David Miao at 604-634-0348 or david@businessinsurrey.com.
X-ALT-DESC;FMTTYPE=text/html:<span class="cm_editor_fix">Have breakfast and network with your fellow Board of Trade members at this popular morning event.<br />\n<br />\nYou can help welcome our new members and establish new contacts too\, while you learn more about some of the advantages of belonging to the Surrey Board of Trade.<br />\n<br />\nFor more information contact David Miao at 604-634-0348 or david@businessinsurrey.com.</span>
LOCATION:Sheraton Vancouver Guildford Hotel 15269 104 Avenue\, Surrey
UID:e.749.2849
SEQUENCE:3
DTSTAMP:20260423T105109Z
URL:https://business.businessinsurrey.com/events/details/april-9-2015-business-in-the-city-04-09-2015-2849
END:VEVENT

END:VCALENDAR
