BEGIN:VCALENDAR
VERSION:2.0
PRODID:-//ChamberMaster//Event Calendar 2.0//EN
METHOD:PUBLISH
X-PUBLISHED-TTL:P3D
REFRESH-INTERVAL:P3D
CALSCALE:GREGORIAN
BEGIN:VEVENT
DTSTART:20160408T143000Z
DTEND:20160408T163000Z
X-MICROSOFT-CDO-ALLDAYEVENT:FALSE
SUMMARY:April 8\, 2016 - Mobility Pricing: A Transportation Funding Solution?
DESCRIPTION:The question on how to fund transit and transportation infrastructure development and maintenance has yet to be resolved. Mobility pricing is the strategy that is currently in favour as a fair way of increasing revenue. Is it? What exactly would be included in a road tax and how would funds be distributed?
X-ALT-DESC;FMTTYPE=text/html:The question on how to fund transit and transportation infrastructure development and maintenance has yet to be resolved. Mobility pricing is the strategy that is currently in favour as a fair way of increasing revenue. Is it? What exactly would be included in a road tax and how would funds be distributed?
LOCATION:Eaglequest Golf Course 7778 152 Street\, Surrey
UID:e.749.4794
SEQUENCE:3
DTSTAMP:20260424T052714Z
URL:https://business.businessinsurrey.com/events/details/april-8-2016-mobility-pricing-a-transportation-funding-solution-04-08-2016-4794
END:VEVENT

END:VCALENDAR
