BEGIN:VCALENDAR
VERSION:2.0
PRODID:-//ChamberMaster//Event Calendar 2.0//EN
METHOD:PUBLISH
X-PUBLISHED-TTL:P3D
REFRESH-INTERVAL:P3D
CALSCALE:GREGORIAN
BEGIN:VEVENT
DTSTART;VALUE=DATE:20100407
DTEND;VALUE=DATE:20100408
TRANSP:TRANSPARENT
X-MICROSOFT-CDO-ALLDAYEVENT:TRUE
SUMMARY:April 7\, 2010 - Breakfast in the City
DESCRIPTION:
X-ALT-DESC;FMTTYPE=text/html:
LOCATION:
UID:e.749.1596
SEQUENCE:3
DTSTAMP:20260422T222532Z
URL:https://business.businessinsurrey.com/events/details/april-7-2010-breakfast-in-the-city-04-07-2010-1596
END:VEVENT

END:VCALENDAR
