BEGIN:VCALENDAR
VERSION:2.0
PRODID:-//ChamberMaster//Event Calendar 2.0//EN
METHOD:PUBLISH
X-PUBLISHED-TTL:P3D
REFRESH-INTERVAL:P3D
CALSCALE:GREGORIAN
BEGIN:VEVENT
DTSTART:20100430T143000Z
DTEND:20100430T210000Z
X-MICROSOFT-CDO-ALLDAYEVENT:FALSE
SUMMARY:April 30\, 2010 - Tour of Industry
DESCRIPTION:
X-ALT-DESC;FMTTYPE=text/html:
LOCATION:
UID:e.749.1606
SEQUENCE:3
DTSTAMP:20260422T192709Z
URL:https://business.businessinsurrey.com/events/details/april-30-2010-tour-of-industry-04-30-2010-1606
END:VEVENT

END:VCALENDAR
