BEGIN:VCALENDAR
VERSION:2.0
PRODID:-//ChamberMaster//Event Calendar 2.0//EN
METHOD:PUBLISH
X-PUBLISHED-TTL:P3D
REFRESH-INTERVAL:P3D
CALSCALE:GREGORIAN
BEGIN:VEVENT
DTSTART:20150429T150000Z
DTEND:20150429T170000Z
X-MICROSOFT-CDO-ALLDAYEVENT:FALSE
SUMMARY:April 29\, 2015 - WellnessFits: Getting Started with Workplace Wellness
DESCRIPTION:WellnessFits: Getting Started with Workplace Wellness\n\n* DUE TO UNFORESEEN CIRCUMSTANCES\, THIS WORKSHOP HAS BEEN CANCELLED. PLEASE CALL 604-581-7130 IF YOU HAVE ANY QUESTIONS. \n\n\n\nOur work environments have a significant impact on our health. That's not surprising considering that Canadian workers spend an average of 60% of their waking hours on the job. Creating a work environment that supports employee health and wellbeing is key for attracting and retaining top talent and creating a more productive team.\n\n \n\nThis workshop will provide employers with a step-by-step guide to designing\, planning and implementing a workplace wellness program.\n\n \n\nYou will learn about:\n\n\n	The business case for workplace wellness\n	How to get senior management support for workplace wellness\n	Assessing your workplace and employee interests\n	Creating an action plan\n	Ideas for promoting participation and engagement\n	Free tools and resources offered through WellnessFits
X-ALT-DESC;FMTTYPE=text/html:<span style="font-family:arial\,helvetica\,sans-serif\;"><strong>WellnessFits: Getting Started with Workplace Wellness</strong></span><br />\n<strong><span style="color:#FF0000\;">* DUE TO UNFORESEEN CIRCUMSTANCES\, THIS WORKSHOP HAS BEEN CANCELLED. PLEASE CALL 604-581-7130 IF YOU HAVE ANY QUESTIONS. </span></strong><br />\n<br />\n<span style="font-family:arial\,helvetica\,sans-serif\;">Our work environments have a significant impact on our health. That&rsquo\;s not surprising considering that Canadian workers spend an average of 60% of their waking hours on the job. Creating a work environment that supports employee health and wellbeing is key for attracting and retaining top talent and creating a more productive team.</span><br />\n&nbsp\;<br />\n<span style="font-family:arial\,helvetica\,sans-serif\;">This workshop will&nbsp\;provide employers with a step-by-step guide to designing\, planning and implementing a workplace wellness program.</span><br />\n&nbsp\;<br />\n<span style="font-family:arial\,helvetica\,sans-serif\;">You will learn about:</span>\n\n<ul>\n	<li><span style="font-family:arial\,helvetica\,sans-serif\;">The business case for workplace wellness</span></li>\n	<li><span style="font-family:arial\,helvetica\,sans-serif\;"><span style="font-family:arial\,helvetica\,sans-serif\;">How to get senior management support for workplace wellness</span></span></li>\n	<li><span style="font-family:arial\,helvetica\,sans-serif\;"><span style="font-family:arial\,helvetica\,sans-serif\;"><span style="font-family:arial\,helvetica\,sans-serif\;">Assessin<wbr />g your workplace and employee interests</span></span></span></li>\n	<li><span style="font-family:arial\,helvetica\,sans-serif\;"><span style="font-family:arial\,helvetica\,sans-serif\;"><span style="font-family:arial\,helvetica\,sans-serif\;"><span style="font-family:arial\,helvetica\,sans-serif\;">Creating an action plan</span></span></span></span></li>\n	<li><span style="font-family:arial\,helvetica\,sans-serif\;"><span style="font-family:arial\,helvetica\,sans-serif\;"><span style="font-family:arial\,helvetica\,sans-serif\;"><span style="font-family:arial\,helvetica\,sans-serif\;"><span style="font-family:arial\,helvetica\,sans-serif\;">Ideas for promoting participation and engagement</span></span></span></span></span></li>\n	<li><span style="font-family:arial\,helvetica\,sans-serif\;"><span style="font-family:arial\,helvetica\,sans-serif\;"><span style="font-family:arial\,helvetica\,sans-serif\;"><span style="font-family:arial\,helvetica\,sans-serif\;"><span style="font-family:arial\,helvetica\,sans-serif\;"><span style="font-family:arial\,helvetica\,sans-serif\;">Free tools and resources offered through WellnessFits</span></span></span></span></span></span></li>\n</ul>\n
LOCATION:Surrey Board of Trade Conference Room 101 - 14439 104 Ave Surrey\, BC
UID:e.749.3556
SEQUENCE:3
DTSTAMP:20260423T104658Z
URL:https://business.businessinsurrey.com/events/details/april-29-2015-wellnessfits-getting-started-with-workplace-wellness-04-29-2015-3556
END:VEVENT

END:VCALENDAR
