BEGIN:VCALENDAR
VERSION:2.0
PRODID:-//ChamberMaster//Event Calendar 2.0//EN
METHOD:PUBLISH
X-PUBLISHED-TTL:P3D
REFRESH-INTERVAL:P3D
CALSCALE:GREGORIAN
BEGIN:VEVENT
DTSTART:20160427T144500Z
DTEND:20160427T170000Z
X-MICROSOFT-CDO-ALLDAYEVENT:FALSE
SUMMARY:April 27\, 2016 - Preparing for BC's New Societies Act
DESCRIPTION:Approximately 27\,000 BC non-profit societies will transition over to new corporate legislation on November 28\, 2016. Get a head start on the process with a presentation on the new Societies Act. This two-hour session will cover:\n\n\n	the transition process\n	positive aspects of the new Act\n	online filing procedures\, and more.\n\nYou will also review potential issues for boards and members to consider\, including public salary disclosure requirements\, privacy concerns\, and problematic member remedies.\n\n \n\nThis workshop is facilitated by lawyers Ken Volkenant and Luke Johnson of De Jager Volkenant.
X-ALT-DESC;FMTTYPE=text/html:Approximately 27\,000 BC non-profit societies will transition over to new corporate legislation on <span class="aBn" data-term="goog_765401336" tabindex="0"><span class="aQJ">November 28\, 2016</span></span>. Get a head start on the process with a presentation on the new Societies Act. This two-hour session will cover:\n\n<ul>\n	<li>the transition process</li>\n	<li>positive aspects of the new Act</li>\n	<li>online filing procedures\, and more.</li>\n</ul>\nYou will also review potential issues for boards and members to consider\, including public salary disclosure requirements\, privacy concerns\, and problematic member remedies.<br />\n&nbsp\;<br />\nThis workshop is facilitated by lawyers Ken Volkenant and Luke Johnson of De Jager Volkenant.
LOCATION:LOCATION MOVED! Guildford Golf & Country Club (7929 152 Street\, Surrey)
UID:e.749.4820
SEQUENCE:3
DTSTAMP:20260424T070448Z
URL:https://business.businessinsurrey.com/events/details/april-27-2016-preparing-for-bc-s-new-societies-act-04-27-2016-4820
END:VEVENT

END:VCALENDAR
