BEGIN:VCALENDAR
VERSION:2.0
PRODID:-//ChamberMaster//Event Calendar 2.0//EN
METHOD:PUBLISH
X-PUBLISHED-TTL:P3D
REFRESH-INTERVAL:P3D
CALSCALE:GREGORIAN
BEGIN:VEVENT
DTSTART:20160427T220000Z
DTEND:20160428T020000Z
X-MICROSOFT-CDO-ALLDAYEVENT:FALSE
SUMMARY:April 27\, 2016 - 9th Annual Fraser Valley Chambers of Commerce Business Showcase
DESCRIPTION:You are invited to attend the Fraser Valley's most inclusive networking event of the year!\n\n\n\nPresented by the Fraser Valley Chambers of Commerce:\n\nAbbotsford\, Chilliwack\, Cloverdale\, Langley\, Mission\, Maple Ridge-Pitt Meadows and Surrey.\n\n\n\nWant to exhibit?\n\nChamber Member Exhibit Space: Starting at $199\n\nNon-Member Exhibit Space: Starting at $249\n\n\n\nWhy should you attend?\n\n	Meet hundreds of people from all over the Fraser Valley for the opportunity to expand your network!\n	Visit over 60 exhibitor booths!\n	Complimentary admission includes refreshments!\n\nVisit our website for more information and registration.\n\nwww.abbostfordchamber.com
X-ALT-DESC;FMTTYPE=text/html:You are invited to attend the Fraser Valley&#39\;s most inclusive networking event of the year!<br />\n<br />\nPresented by the Fraser Valley Chambers of Commerce:<br />\nAbbotsford\, Chilliwack\, Cloverdale\, Langley\, Mission\, Maple Ridge-Pitt Meadows and Surrey.<br />\n<br />\nWant to exhibit?<br />\nChamber Member Exhibit Space: Starting at $199<br />\nNon-Member Exhibit Space: Starting at $249<br />\n<br />\nWhy should you attend?\n<ul>\n	<li>Meet hundreds of people from all over the Fraser Valley for the opportunity to expand your network!</li>\n	<li>Visit over 60 exhibitor booths!</li>\n	<li>Complimentary admission includes refreshments!</li>\n</ul>\nVisit our website for more information and registration.<br />\n<a href="http://www.abbotsfordchamber.com" target="_blank">www.abbostfordchamber.com</a>
LOCATION:Ramada Plaza & Conference Centre (36035 North Parallel Road\, Abbotsford\, BC)
UID:e.749.4773
SEQUENCE:3
DTSTAMP:20260424T053031Z
URL:https://business.businessinsurrey.com/events/details/april-27-2016-9th-annual-fraser-valley-chambers-of-commerce-business-showcase-04-27-2016-4773
END:VEVENT

END:VCALENDAR
