BEGIN:VCALENDAR
VERSION:2.0
PRODID:-//ChamberMaster//Event Calendar 2.0//EN
METHOD:PUBLISH
X-PUBLISHED-TTL:P3D
REFRESH-INTERVAL:P3D
CALSCALE:GREGORIAN
BEGIN:VEVENT
DTSTART:20100427T150000Z
DTEND:20100427T170000Z
X-MICROSOFT-CDO-ALLDAYEVENT:FALSE
SUMMARY:April 27\, 2010 - Media Message Preparation Workshop
DESCRIPTION:If you can deliver your message to the media\, you can deliver it anywhere.  Key Message is an important sales\, marketing and branding tool.  Highly effective media expertise is a great career skill that pays huge dividens. In this workshop\, you'll learn to:Develop a message that works for your audienceUse Emotion and why it's the holy grail of messagingUtilize Framing and why it's importantDraw on the POWER of METAPHORFacilitated by:Stu McNish\,On Message Media Stu works with participants showing you how to build your message and make it work for you.
X-ALT-DESC;FMTTYPE=text/html:<div>If you can deliver your message to the media\, you can deliver it anywhere.&nbsp\; Key&nbsp\;Message is an important sales\, marketing and branding tool.&nbsp\; Highly effective media expertise is a great career skill that pays huge dividens.</div><div>&nbsp\;</div><div>In this workshop\, you&rsquo\;ll learn to:</div><ul><li>Develop a message that works for your audience</li><li>Use Emotion and why it&rsquo\;s the holy grail of messaging</li><li>Utilize Framing and why it&rsquo\;s important</li><li>Draw on the POWER&nbsp\;of METAPHOR</li></ul><div>Facilitated by:</div><div>Stu McNish\,On&nbsp\;Message Media</div><div>&nbsp\;</div><div>Stu works with&nbsp\;participants showing you how to build your message and make it work for you.&nbsp\;</div>
LOCATION:Surrey Board of Trade Conference Room#101 - 14439 104 Avenue\, Surrey\, BC
UID:e.749.1604
SEQUENCE:3
DTSTAMP:20260422T205512Z
URL:https://business.businessinsurrey.com/events/details/april-27-2010-media-message-preparation-workshop-04-27-2010-1604
END:VEVENT

END:VCALENDAR
