BEGIN:VCALENDAR
VERSION:2.0
PRODID:-//ChamberMaster//Event Calendar 2.0//EN
METHOD:PUBLISH
X-PUBLISHED-TTL:P3D
REFRESH-INTERVAL:P3D
CALSCALE:GREGORIAN
BEGIN:VEVENT
DTSTART:20150424T183000Z
DTEND:20150424T203000Z
X-MICROSOFT-CDO-ALLDAYEVENT:FALSE
SUMMARY:April 24\, 2015 - Lunch with C/Supt. Bill Fordy\, Surrey RCMP
DESCRIPTION:SURREY BUSINESS LEADERS LUNCH\n\n\n\nKEYNOTE SPEAKER: \n\nBILL FORDY \n\nChief Superintendent\, Surrey\n\n\n\nSuperintendent Fordy will speak to:\n\n	Hear an update on crime in Surrey \n	His plans for 2015 \n	The relationship between the RCMP and Surrey's business community\n\nSPECIAL GUEST:\n\nPARLIAMENTARY SECRETARY DARRYL PLECAS: BC's BLUE RIBBON PANEL REPORT ON CRIME REDUCTION
X-ALT-DESC;FMTTYPE=text/html:<strong>SURREY BUSINESS LEADERS LUNCH<br />\n<br />\nKEYNOTE SPEAKER: </strong><br />\n<strong>BILL FORDY </strong><br />\nChief Superintendent\, Surrey<br />\n<br />\nSuperintendent Fordy will speak to:\n<ul>\n	<li>Hear an update on crime in Surrey&nbsp\;</li>\n	<li>His plans for 2015&nbsp\;</li>\n	<li>The relationship between the RCMP and Surrey&rsquo\;s business community</li>\n</ul>\n<strong>SPECIAL GUEST:<br />\nPARLIAMENTARY SECRETARY DARRYL PLECAS: BC&rsquo\;s BLUE RIBBON PANEL REPORT ON CRIME REDUCTION</strong>
LOCATION:Eaglequest Golf Course 7778 152 St Surrey\, BC
UID:e.749.2895
SEQUENCE:3
DTSTAMP:20260423T104952Z
URL:https://business.businessinsurrey.com/events/details/april-24-2015-lunch-with-c-supt-bill-fordy-surrey-rcmp-04-24-2015-2895
END:VEVENT

END:VCALENDAR
