BEGIN:VCALENDAR
VERSION:2.0
PRODID:-//ChamberMaster//Event Calendar 2.0//EN
METHOD:PUBLISH
X-PUBLISHED-TTL:P3D
REFRESH-INTERVAL:P3D
CALSCALE:GREGORIAN
BEGIN:VEVENT
DTSTART:20150423T143000Z
DTEND:20150423T163000Z
X-MICROSOFT-CDO-ALLDAYEVENT:FALSE
SUMMARY:April 23\, 2015 - Federal Budget Breakfast
DESCRIPTION:Surrey Board of Trade 2015 Federal Budget Breakfast\n\n\n\nKeynote Speaker:\n\nKerry Lynne Findlay\n\nMinister of National Revenue
X-ALT-DESC;FMTTYPE=text/html:<strong>Surrey Board of Trade 2015 Federal Budget Breakfast</strong><br />\n<br />\n<u>Keynote Speaker:</u><br />\n<strong>Kerry Lynne Findlay<br />\nMinister of National Revenue</strong>
LOCATION:Eaglequest Golf Course (7778 152 Street\, Surrey\, BC)
UID:e.749.3563
SEQUENCE:3
DTSTAMP:20260423T104919Z
URL:https://business.businessinsurrey.com/events/details/april-23-2015-federal-budget-breakfast-04-23-2015-3563
END:VEVENT

END:VCALENDAR
