BEGIN:VCALENDAR
VERSION:2.0
PRODID:-//ChamberMaster//Event Calendar 2.0//EN
METHOD:PUBLISH
X-PUBLISHED-TTL:P3D
REFRESH-INTERVAL:P3D
CALSCALE:GREGORIAN
BEGIN:VEVENT
DTSTART:20160422T143000Z
DTEND:20160422T163000Z
X-MICROSOFT-CDO-ALLDAYEVENT:FALSE
SUMMARY:April 22\, 2016 - Business and Families: Childcare Challenges for Workers
DESCRIPTION:Recent reports indicate that finding adequate and affordable childcare is challenging in the lower mainland\, and more so for Surrey parents. Panelists will discuss the challenges and opportunities of childcare and how businesses can benefit when families' needs are covered. The concept of moving BC Family Day to align with all provinces\, will also be explored.\n\n\n\nRecent reports indicate finding adequate and affordable childcare is extremely challenging in the Lower Mainland\, and more so for Surrey parents. To discuss how this financially impacts our economy and suggest what can be done to help parents and employers decrease the worry and stress\, are:\n\n          -      Iglika Ivanova\, Economist\, CCPA\n\n          -      Daljit Gill-Badesha\, co-chair of Surrey's Child Care Task Force\n\n          -      Pat Frouws\, Executive Director of SFU Child Care Society
X-ALT-DESC;FMTTYPE=text/html:Recent reports indicate that finding adequate and affordable childcare is challenging in the lower mainland\, and more so for Surrey parents. Panelists will discuss the challenges and opportunities of childcare and how businesses can benefit when families&rsquo\; needs are covered. The concept of moving BC Family Day to align with all provinces\, will also be explored.<br />\n<br />\n<span style="font-size:12px"><span style="font-family:arial">Recent reports indicate finding adequate and affordable childcare is extremely challenging in the Lower Mainland\, and more so for Surrey parents. To discuss how this financially impacts our economy and suggest what can be done to help parents <strong><em>and employers</em></strong> decrease the worry and stress\, are:<br />\n&nbsp\;&nbsp\;&nbsp\;&nbsp\;&nbsp\; &nbsp\; &nbsp\; -&nbsp\;&nbsp\; &nbsp\;&nbsp\; Iglika Ivanova\, Economist\, CCPA<br />\n&nbsp\;&nbsp\;&nbsp\; &nbsp\;&nbsp\;&nbsp\;&nbsp\;&nbsp\; -&nbsp\;&nbsp\; &nbsp\; &nbsp\;Daljit Gill-Badesha\, co-chair of Surrey&rsquo\;s Child Care Task Force<br />\n&nbsp\;&nbsp\; &nbsp\; &nbsp\;&nbsp\;&nbsp\;&nbsp\; - &nbsp\;&nbsp\; &nbsp\; <span class="aBn" data-term="goog_885223837" tabindex="0"><span class="aQJ">Pat </span></span><span class="aBn" data-term="goog_885223837" tabindex="0"><span class="aQJ">Frouw</span></span>s\, Executive Director of SFU Child Care Society</span></span>
LOCATION:Guildford Golf Course 7929 152 Street\, Surrey
UID:e.749.4795
SEQUENCE:3
DTSTAMP:20260424T053031Z
URL:https://business.businessinsurrey.com/events/details/april-22-2016-business-and-families-childcare-challenges-for-workers-04-22-2016-4795
END:VEVENT

END:VCALENDAR
