BEGIN:VCALENDAR
VERSION:2.0
PRODID:-//ChamberMaster//Event Calendar 2.0//EN
METHOD:PUBLISH
X-PUBLISHED-TTL:P3D
REFRESH-INTERVAL:P3D
CALSCALE:GREGORIAN
BEGIN:VEVENT
DTSTART:20150422T143000Z
DTEND:20150422T170000Z
X-MICROSOFT-CDO-ALLDAYEVENT:FALSE
SUMMARY:April 22\, 2015 - Health Care and Business Dialogue - Primary Care
DESCRIPTION:You are invited!\n\nLeadership Surrey Dialogue Series\n\nHealth Care and Business Dialogues\n\n\n\nThe Surrey/North Delta Division of Family Practice have recently launched a GP For Me campaign to connect people with physicians. However\, they have estimated that there will be a critical need for 60 more physicians in the very near future to meet FHA's growing population. The panel\, comprising of primary care specialists and community members\, will discuss what currently exists for urgent care needs\, and what could be developed to meet future needs in Surrey and the Fraser Health Region.
X-ALT-DESC;FMTTYPE=text/html:<br />\nYou are invited!<br />\n<span style="font-size:16px\;"><strong>Leadership Surrey Dialogue Series</strong></span><br />\n<span style="font-size:14px\;"><em>Health Care and Business Dialogues</em></span><br />\n<br />\nThe Surrey/North Delta Division of Family Practice have recently launched a <em>GP For Me</em> campaign to connect people with physicians. However\, they have estimated that there will be a critical need for 60 more physicians in the very near future to meet FHA&rsquo\;s growing population. The panel\, comprising of primary care specialists and community members\, will discuss what currently exists for urgent care needs\, and what could be developed to meet future needs in Surrey and the Fraser Health Region.<br />\n&nbsp\;
LOCATION:Eaglequest Golf Course 7778 152 Street Surrey\, BC
UID:e.749.3562
SEQUENCE:3
DTSTAMP:20260423T105133Z
URL:https://business.businessinsurrey.com/events/details/april-22-2015-health-care-and-business-dialogue-primary-care-04-22-2015-3562
END:VEVENT

END:VCALENDAR
